BEGIN:VCALENDAR
VERSION:2.0
PRODID:-//ChamberMaster//Event Calendar 2.0//EN
METHOD:PUBLISH
X-PUBLISHED-TTL:P3D
REFRESH-INTERVAL:P3D
CALSCALE:GREGORIAN
BEGIN:VEVENT
DTSTART:20220615T150000Z
DTEND:20220615T160000Z
X-MICROSOFT-CDO-ALLDAYEVENT:FALSE
SUMMARY:Time to Grow Business\, Networking Group
DESCRIPTION:Time to Grow Business is a Networking Group of the Longmont Chamber and is formatted as a Business Connection Group. Time to Grow Business is a group working to support and developed its members by connecting on opportunities to grow their businesses while supporting and learning about one another businesses. Group meets twice monthly\, on the 1st and 3rd Wednesdays of each month\, for leads exchange\, business advice\, and network expansion.\n\nNetworking Groups are a great way to deeply connect with other local business leaders and share leads and ideas. One representative from each industry may attend a Networking Group.\n\nPlease contact Regan Sample or Megan Onorato the group co-facilitators before joining the group.
X-ALT-DESC;FMTTYPE=text/html:<p>Time to Grow Business&nbsp\;is a Networking Group of the Longmont Chamber and is formatted as a Business Connection Group. Time to Grow Business is a group working to support and developed its members by connecting on opportunities to grow their businesses while supporting and learning about one another businesses. Group meets twice monthly\, on the 1st and 3rd&nbsp\;Wednesdays of each month\, for leads exchange\, business advice\, and network expansion.</p>\n\n<p>Networking Groups are a great way to deeply connect with other local business leaders and share leads and ideas. One representative from each industry may attend a Networking Group.</p>\n\n<p>Please contact Regan Sample or Megan Onorato&nbsp\;the group co-facilitators before joining the group.&nbsp\;</p>\n
LOCATION:Meeting in person with masks and social distance at the Time's Collaborative\, 338 Main St. Longmont Co 80501.
UID:e.3083.8332
SEQUENCE:3
DTSTAMP:20260423T204713Z
URL:https://members.longmontchamber.org/events/details/time-to-grow-business-networking-group-06-15-2022-8332
END:VEVENT

END:VCALENDAR
