BEGIN:VCALENDAR
VERSION:2.0
PRODID:-//ChamberMaster//Event Calendar 2.0//EN
METHOD:PUBLISH
X-PUBLISHED-TTL:P3D
REFRESH-INTERVAL:P3D
CALSCALE:GREGORIAN
BEGIN:VEVENT
DTSTART:20250706T170000Z
DTEND:20250706T220000Z
X-MICROSOFT-CDO-ALLDAYEVENT:FALSE
SUMMARY:TinkerFair 2025
DESCRIPTION:Come Explore our MakerSpace! Vendor Market\, Demonstrations\, Activities\, Live Music\, Silent Auction\, and More! \n\nAll are welcome to join us Sunday\, July 6th 11am-4pm at TinkerMill for TinkerFair!\n\n\n\nThis seasonal fundraiser supports our nonprofit community MakerSpace and invites the public to see and participate in all the awesome things happening and being made at TinkerMill! \n\n\n\nOur mission is to provide space\, equipment\, and community empowering people on the Front Range to make\, learn\, and grow. We have a woodshop\, laser cutter\, ceramics\, welding\, 3D printers\, and so much more! \n\n\n\nTinkerFair is free to attend! Purchase tickets to redeem for activities to support our MakerSpace! Member vendors selling items separately as well!
X-ALT-DESC;FMTTYPE=text/html:<p><span style="font-size:20px\;"><strong>Come Explore our MakerSpace! Vendor Market\, Demonstrations\, Activities\, Live Music\, Silent Auction\,&nbsp\;and More!&nbsp\;</strong></span></p>\n\n<p><span style="font-size:20px\;">All are welcome to join us Sunday\, July 6th 11am-4pm at TinkerMill for TinkerFair!<br />\n<br />\nThis seasonal fundraiser supports our nonprofit community MakerSpace and invites the public to see and participate in all the awesome things happening and being made at TinkerMill!&nbsp\;<br />\n<br />\nOur mission is to provide space\, equipment\, and community empowering people on the Front Range to make\, learn\, and grow. We have a woodshop\, laser cutter\, ceramics\, welding\, 3D printers\, and so much more!&nbsp\;<br />\n<br />\nTinkerFair is free to attend! Purchase tickets to redeem for activities to support our MakerSpace! Member vendors selling items separately as well!&nbsp\;</span></p>\n
LOCATION:TinkerMill MakerSpace
UID:e.3083.13518
SEQUENCE:3
DTSTAMP:20260421T093613Z
URL:https://members.longmontchamber.org/events/details/tinkerfair-2025-13518
END:VEVENT

END:VCALENDAR
