BEGIN:VCALENDAR
VERSION:2.0
PRODID:-//ChamberMaster//Event Calendar 2.0//EN
METHOD:PUBLISH
X-PUBLISHED-TTL:P3D
REFRESH-INTERVAL:P3D
CALSCALE:GREGORIAN
BEGIN:VEVENT
DTSTART:20230715T170000Z
DTEND:20230715T220000Z
X-MICROSOFT-CDO-ALLDAYEVENT:FALSE
SUMMARY:TinkerFair! Celebrating 10 years of TinkerMill
DESCRIPTION:Come join your local MakerSpace for a carnival celebrating 10 years of business and community in Longmont! Saturday July 15th from 11am-4pm. We will have games and fun activities in our shops (like welding\, machine shop & our laser cutter)\, tours\, a Maker's Market\, food trucks\, concessions (like sno-cones & cotton candy!)\, live music & more! This is our annual fundraiser\, please come support your local makers and this awesome resource that helps make our community so unique!
X-ALT-DESC;FMTTYPE=text/html:<p><span style="background-color:transparent\; color:rgb(0\, 0\, 0)\; font-family:arial\; font-size:11pt">Come join your local MakerSpace for a carnival celebrating 10 years of business and community in Longmont! Saturday July 15th from 11am-4pm. We will have games and fun activities in our shops (like welding\, machine shop &amp\; our laser cutter)\, tours\, a Maker&#39\;s Market\, food trucks\, concessions (like sno-cones &amp\; cotton candy!)\, live music &amp\; more! This is our annual fundraiser\, please come support your local makers and this awesome resource that helps make our community so unique!</span></p>\n\n<div>&nbsp\;</div>\n
LOCATION:1840 Delaware Place Longmont CO 80501
UID:e.3083.9925
SEQUENCE:3
DTSTAMP:20260423T005532Z
URL:https://members.longmontchamber.org/events/details/tinkerfair-celebrating-10-years-of-tinkermill-9925
END:VEVENT

END:VCALENDAR
