BEGIN:VCALENDAR
VERSION:2.0
PRODID:-//ChamberMaster//Event Calendar 2.0//EN
METHOD:PUBLISH
X-PUBLISHED-TTL:P3D
REFRESH-INTERVAL:P3D
CALSCALE:GREGORIAN
BEGIN:VEVENT
DTSTART:20240706T170000Z
DTEND:20240706T220000Z
X-MICROSOFT-CDO-ALLDAYEVENT:FALSE
SUMMARY:TinkerFair Open House 2024
DESCRIPTION:Come Explore our MakerSpace! Vendors\, Demonstrations\, Activities\, and More! ?????\n\n\n\nAll are welcome to join us Saturday\, July 6 from 11am-4pm at TinkerMill MakerSpace for TinkerFair! This seasonal fundraiser is to support our non-profit community MakerSpace and to invite the public to see all the cool things happening and being made at TinkerMill! Our mission is to provide accessible STEAM resources for all. We have a community woodshop\, laser cutter\, ceramics\, welding\, 3D printers\, and so much more!\n\n\n\nEvent is free to attend. Purchase tickets to redeem for activities to support our MakerSpace!\n\n\n\nLOCATION\n\nTinkerMill MakerSpace\, 1840 Delaware Pl Unit A\, Longmont CO\, 80501\nEvent link here.
X-ALT-DESC;FMTTYPE=text/html:<div>\n<div>\n<p><strong>Come Explore our MakerSpace! Vendors\, Demonstrations\, Activities\, and More!&nbsp\;</strong>?????<br />\n<br />\nAll are welcome to join us&nbsp\;<strong>Saturday\, July 6 from 11am-4pm</strong>&nbsp\;at TinkerMill MakerSpace&nbsp\;for TinkerFair! This seasonal fundraiser is to support our non-profit community MakerSpace and to invite the public to see all the cool things happening and being made at TinkerMill! Our mission is to provide accessible STEAM resources for all. We have a community woodshop\, laser cutter\, ceramics\, welding\, 3D printers\, and so much more!<br />\n<br />\nEvent is free to attend. Purchase tickets to redeem for activities to support our MakerSpace!</p>\n</div>\n</div>\n\n<h3>LOCATION</h3>\n\n<p>TinkerMill MakerSpace\, 1840 Delaware Pl Unit A\, Longmont CO\, 80501</p>\n<a href="https://www.tickettailor.com/events/tinkermillmakerspace/1260261?">Event link here.</a>&nbsp\;<br />\n&nbsp\;
LOCATION:TinkerMill MakerSpace\, 1840 Delaware Pl Unit A\, Longmont CO\, 80501
UID:e.3083.10140
SEQUENCE:3
DTSTAMP:20260422T043741Z
URL:https://members.longmontchamber.org/events/details/tinkerfair-open-house-2024-10140
END:VEVENT

END:VCALENDAR
