BEGIN:VCALENDAR
VERSION:2.0
PRODID:-//ChamberMaster//Event Calendar 2.0//EN
METHOD:PUBLISH
X-PUBLISHED-TTL:P3D
REFRESH-INTERVAL:P3D
CALSCALE:GREGORIAN
BEGIN:VEVENT
DTSTART:20250809T000000Z
DTEND:20250809T010000Z
X-MICROSOFT-CDO-ALLDAYEVENT:FALSE
SUMMARY:TinkerMill Presents: Flying Pig Designs - Bringing Products to Production
DESCRIPTION:Join us for an engaging presentation on Flying Pig Designs' streamlined design process for bringing products from blank page to Production. They will walk through their proven approach from early concept sketching and prototyping to design for manufacturability and regulatory readiness. Not ready to take it all on yourself? No problem! You'll see how their flexible\, a la carte services support makers at every stage\, helping you transform a promising idea into a production-ready product. Whether you're working on consumer electronics\, medical devices\, or robotics\, FPD can bridge the gap between creativity and commercialization with rapid iteration\, lean development\, and scalable design solutions. Let's bring your ideas to life faster\, smarter\, and with less risk.
X-ALT-DESC;FMTTYPE=text/html:<span style="color:rgb(74\, 74\, 74)\; font-family:open sans\,sans-serif\; font-size:15px">Join us for an engaging presentation on Flying Pig Designs&rsquo\; streamlined design process for bringing products from blank page to Production. They will walk through their proven approach&mdash\;from early concept sketching and prototyping to design for manufacturability and regulatory readiness. Not ready to take it all on yourself? No problem! You&#39\;ll see how their flexible\, a la carte services support makers at every stage\, helping you transform a promising idea into a production-ready product. Whether you&#39\;re working on consumer electronics\, medical devices\, or robotics\, FPD can bridge the gap between creativity and commercialization with rapid iteration\, lean development\, and scalable design solutions. Let&rsquo\;s bring your ideas to life&mdash\;faster\, smarter\, and with less risk.</span>
LOCATION:TinkerMill MakerSpace Event Space
UID:e.3083.14004
SEQUENCE:3
DTSTAMP:20260421T094317Z
URL:https://members.longmontchamber.org/events/details/tinkermill-presents-flying-pig-designs-bringing-products-to-production-14004
END:VEVENT

END:VCALENDAR
