BEGIN:VCALENDAR
VERSION:2.0
PRODID:-//ChamberMaster//Event Calendar 2.0//EN
METHOD:PUBLISH
X-PUBLISHED-TTL:P3D
REFRESH-INTERVAL:P3D
CALSCALE:GREGORIAN
BEGIN:VEVENT
DTSTART:20250608T003000Z
DTEND:20250608T020000Z
X-MICROSOFT-CDO-ALLDAYEVENT:FALSE
SUMMARY:TinkerMill Presents: Sima & Aubrey Recap NCECA
DESCRIPTION:Pottery Shop Captains\, Sima & Aubrey\, had the opportunity to attend the NCECA (National Council on Education for the Ceramic Arts) conference in March - and they are hosting a talk where they will cover some of the knowledge they learned while there next Saturday\, June 7th 6:30-8pm in our Event Space.\n\n\n\nThey will discuss techniques such as blending mushrooms and pottery to make temporary architectural structures\, how to use pottery for community building\, using Procreate and Cricut to make stencils\, ceramic cooking vessels\, and so much more.\n\n\n\nThe highlight of the night will be discussing what they learned about rocket fire kilns and our plans to make one for Tink.  Come share in their excitement to bring back what they learned to our home ceramic community.
X-ALT-DESC;FMTTYPE=text/html:<br />\n<span style="background-color:transparent\; color:rgb(0\, 0\, 0)\; font-family:arial\,sans-serif\; font-size:11pt"><span style="font-size:20px\;">Pottery Shop Captains\, Sima &amp\; Aubrey\, had the opportunity to attend the NCECA (National Council on Education for the Ceramic Arts) conference in March - and they are hosting a talk where they will cover some of the knowledge they learned while there next Saturday\, June 7th 6:30-8pm in our Event Space.<br />\n<br />\nThey will discuss techniques such as blending mushrooms and pottery to make temporary architectural structures\, how to use pottery for community building\, using Procreate and Cricut to make stencils\, ceramic cooking vessels\, and so much more.<br />\n<br />\nThe highlight of the night will be discussing what they learned about rocket fire kilns and our plans to make one for Tink.&nbsp\; Come share in their excitement to bring back what they learned to our home ceramic community.</span></span>
LOCATION:TinkerMill MakerSpace
UID:e.3083.13519
SEQUENCE:3
DTSTAMP:20260421T111329Z
URL:https://members.longmontchamber.org/events/details/tinkermill-presents-sima-aubrey-recap-nceca-13519
END:VEVENT

END:VCALENDAR
