BEGIN:VCALENDAR
VERSION:2.0
PRODID:-//ChamberMaster//Event Calendar 2.0//EN
METHOD:PUBLISH
X-PUBLISHED-TTL:P3D
REFRESH-INTERVAL:P3D
CALSCALE:GREGORIAN
BEGIN:VEVENT
DTSTART:20240428T000000Z
DTEND:20240428T020000Z
X-MICROSOFT-CDO-ALLDAYEVENT:FALSE
SUMMARY:TinkerMill Presents- Space Weather Forecasting with Shawn Dahl
DESCRIPTION:Please join us Saturday\, April 27th 6-8pm for special speaker Shawn Dahl\, a space weather forecaster at NOAA's Space Weather Prediction Center (SWPC) in Boulder\, CO. Learn about SWPC operations\, space weather storms\, and primary concerns with regards to possible impacts   such as for aviation\, the power grid\, space operations\, and aurora. \n\n \nSpace weather has become a concern for our society due to its ability to disrupt or degrade certain types of communications and technologies. Solar Cycle 25 is progressing\, with solar maximum predicted to be around 2025. Learn about SWPC operations\, space weather storms\, and primary concerns with regards to possible impacts   such as for aviation\, the power grid\, space operations\, and aurora.\n\nSpecial speaker Shawn Dahl is a space weather forecaster at NOAA's Space Weather Prediction Center (SWPC) in Boulder\, CO. Shawn signed on with the U.S. Air Force in 1985\, where he spent 22 years serving around the world in the intelligence and meteorology operations' fields\; all while continuing university studies in history and physical sciences. He retired from the Air Force in 2007 and held jobs as a meteorological technician for the National Weather Service (NWS) and as a lead weather forecaster for the U.S. Air Force. He finally settled into his current position at SWPC eight years ago. Shawn also conducts additional work at SWPC as a focal point for customer decision support services\, training\, and education outreach programs. Shawn's work in education and outreach was recognized by the NWS as a National level Cline Award winner in 2018.
X-ALT-DESC;FMTTYPE=text/html:<span style="font-size:14px"><span style="color:rgb(29\, 28\, 29)\; font-family:slack-lato\,slack-fractions\,applelogo\,sans-serif">Please join us Saturday\, April 27th 6-8pm for special speaker Shawn Dahl\, a space weather forecaster at NOAA&rsquo\;s Space Weather Prediction Center (SWPC) in Boulder\, CO. Learn about SWPC operations\, space weather storms\, and primary concerns with regards to possible impacts &ndash\; such as for aviation\, the power grid\, space operations\, and aurora.&nbsp\;</span></span><br />\n&nbsp\;\n<p><span style="font-size:14px">Space weather has become a concern for our society due to its ability to disrupt or degrade certain types of communications and technologies. Solar Cycle 25 is progressing\, with solar maximum predicted to be around 2025. Learn about SWPC operations\, space weather storms\, and primary concerns with regards to possible impacts &ndash\; such as for aviation\, the power grid\, space operations\, and aurora.</span></p>\n\n<p><span style="font-size:14px">Special speaker&nbsp\;Shawn Dahl is a space weather forecaster at NOAA&rsquo\;s Space Weather Prediction Center (SWPC) in Boulder\, CO. Shawn signed on with the U.S. Air Force in 1985\, where he spent 22 years serving around the world in the intelligence and meteorology operations&#39\; fields\; all while continuing university studies in history and physical sciences. He retired from the Air Force in 2007 and held jobs as a meteorological technician for the National Weather Service (NWS) and as a lead weather forecaster for the U.S. Air Force. He finally settled into his current position at SWPC eight years ago. Shawn also conducts additional work at SWPC as a focal point for customer decision support services\, training\, and education outreach programs. Shawn&#39\;s work in education and outreach was recognized by the NWS as a National level Cline Award winner in 2018.</span></p>\n
LOCATION:TinkerMill 1840 Delaware Pl Unit A Longmont\, CO 80501
UID:e.3083.10072
SEQUENCE:3
DTSTAMP:20260422T105244Z
URL:https://members.longmontchamber.org/events/details/tinkermill-presents-space-weather-forecasting-with-shawn-dahl-10072
END:VEVENT

END:VCALENDAR
