BEGIN:VCALENDAR
VERSION:2.0
PRODID:-//ChamberMaster//Event Calendar 2.0//EN
METHOD:PUBLISH
X-PUBLISHED-TTL:P3D
REFRESH-INTERVAL:P3D
CALSCALE:GREGORIAN
BEGIN:VEVENT
DTSTART:20231021T140000Z
DTEND:20231021T220000Z
X-MICROSOFT-CDO-ALLDAYEVENT:FALSE
SUMMARY:TinkerMill's Inaugural Repair Cafe
DESCRIPTION:LONGMONT\, CO\, October 21   TinkerMill\, the largest makerspace in Colorado\, proudly announces its participation in International Repair Day by hosting its first-ever Repair Caf  on October 21. This event invites community members to bring in their broken items\, ranging from electronics\, clothing\, bicycles\, small household appliances\, to toys\, for hands-on repair experiences in a bid to promote sustainability and reduce waste.\n\nEvent Highlights:\n\n1. Expert Tinkerers on Deck: Skilled volunteers from TinkerMill will be available to assist with repairs across various categories\, including:\n\n\n	\n	   Electronics: Radios\, laptops\, phones\, etc.\n	\n	\n	   Furniture: Chairs\, tables\, drawers\, etc.\n	\n	\n	   Clothing: Torn seams\, missing buttons\, etc.\n	\n	\n	   Small Appliances: Toasters\, blenders\, lamps\, etc.\n	\n	\n	   Bicycles: Adjustments\, punctures\, etc.\n	\n	\n	   Toys: Broken parts\, assembly issues\, etc.\n	\n\n \n\n2. TinkerMIll shops include: woodworking\, machining\, electronics\, welding and more. See these shops in use by experts and learn how they are used.\n \n\n3. Community Building: Engage with fellow community members\, exchange repair stories\, and collaborate in an environment passionate about repair and sustainability.\n \n\n"A Repair Caf  is a great opportunity to share our skills and tools with the community to not only fix broken items\, keeping things out of the landfill\, but to also teach others how to fix things themselves. It's amazing being around so many energetic and enthusiastic volunteers every day at the TinkerMill."\n\nCE Raum - TinkerMill Member and Vice President TinkerMill Board of Directors\n \n\nEvent Details:\n\n\n	\n	Date:         October 21\n	\n	\n	Time:         8:00 AM   4:00 PM\n	\n	\n	Location:     TinkerMill\n	\n\n\n1840 Delaware Place\, Unit A\n\nLongmont\, CO 80501\n\n\n	\n	Admission:     Free for all! Donations appreciated.\n	\n\n \n\nAll community members are invited\, whether they have items in need of repair\, wish to offer their repair expertise\, or simply want to experience the spirit of the event. Potential volunteers or those wishing to share their repair skills are also encouraged to connect.\n \n\nFor further details about the Repair Caf  at TinkerMill or to schedule interviews\, please reach out to:\n \n\nErin Hoard - Executive Director\n\n720-204-3090\n\nerin.hoard@tinkermill.org \n \n\nAbout TinkerMill:\n\nTinkerMill\, based in Longmont\, Colorado\, is the premier makerspace in the Rocky Mountain region\, boasting over 700 members. As a 501(c)(3) non-profit\, we foster a collaborative community focused on learning\, teaching\, and innovation. Our vibrant membership champions entrepreneurial endeavors\, emphasizing STEM and art\, and plays a pivotal role in Longmont's economic and community development.\n \n\nAbout International Repair Day:\n\nCelebrated globally on the third Saturday of October\, International Repair Day champions the significance of repair in curtailing waste and environmental harm. It inspires communities around the world to prioritize repair as a critical component of environmental stewardship.
X-ALT-DESC;FMTTYPE=text/html:<p><span style="background-color:transparent\; color:rgb(0\, 0\, 0)\; font-family:arial\,sans-serif\; font-size:11pt">LONGMONT\, CO\, October 21 &ndash\; TinkerMill\, the largest makerspace in Colorado\, proudly announces its participation in International Repair Day by hosting its first-ever Repair Caf&eacute\; on October 21. This event invites community members to bring in their broken items\, ranging from electronics\, clothing\, bicycles\, small household appliances\, to toys\, for hands-on repair experiences in a bid to promote sustainability and reduce waste.</span></p>\n\n<h2><span style="background-color:transparent\; color:rgb(0\, 0\, 0)\; font-family:arial\,sans-serif\; font-size:16pt">Event Highlights:</span></h2>\n\n<p><span style="background-color:transparent\; color:rgb(0\, 0\, 0)\; font-family:arial\,sans-serif\; font-size:11pt">1. </span><strong>Expert Tinkerers on Deck</strong><span style="background-color:transparent\; color:rgb(0\, 0\, 0)\; font-family:arial\,sans-serif\; font-size:11pt">: Skilled volunteers from TinkerMill will be available to assist with repairs across various categories\, including:</span></p>\n\n<ul>\n	<li>\n	<p><span style="background-color:transparent\; font-size:11pt">&nbsp\;&nbsp\;&nbsp\;Electronics: Radios\, laptops\, phones\, etc.</span></p>\n	</li>\n	<li>\n	<p><span style="background-color:transparent\; font-size:11pt">&nbsp\;&nbsp\;&nbsp\;Furniture: Chairs\, tables\, drawers\, etc.</span></p>\n	</li>\n	<li>\n	<p><span style="background-color:transparent\; font-size:11pt">&nbsp\;&nbsp\;&nbsp\;Clothing: Torn seams\, missing buttons\, etc.</span></p>\n	</li>\n	<li>\n	<p><span style="background-color:transparent\; font-size:11pt">&nbsp\;&nbsp\;&nbsp\;Small Appliances: Toasters\, blenders\, lamps\, etc.</span></p>\n	</li>\n	<li>\n	<p><span style="background-color:transparent\; font-size:11pt">&nbsp\;&nbsp\;&nbsp\;Bicycles: Adjustments\, punctures\, etc.</span></p>\n	</li>\n	<li>\n	<p><span style="background-color:transparent\; font-size:11pt">&nbsp\;&nbsp\;&nbsp\;Toys: Broken parts\, assembly issues\, etc.</span></p>\n	</li>\n</ul>\n&nbsp\;\n\n<p><span style="background-color:transparent\; color:rgb(0\, 0\, 0)\; font-family:arial\,sans-serif\; font-size:11pt">2. TinkerMIll shops include: woodworking\, machining\, electronics\, welding and more. See these shops in use by experts and learn how they are used.</span></p>\n&nbsp\;\n\n<p><span style="background-color:transparent\; color:rgb(0\, 0\, 0)\; font-family:arial\,sans-serif\; font-size:11pt">3. Community Building: Engage with fellow community members\, exchange repair stories\, and collaborate in an environment passionate about repair and sustainability.</span></p>\n&nbsp\;\n\n<p><span style="background-color:transparent\; color:rgb(0\, 0\, 0)\; font-family:arial\,sans-serif\; font-size:11pt">&ldquo\;A Repair Caf&eacute\; is a great opportunity to share our skills and tools with the community to not only fix broken items\, keeping things out of the landfill\, but to also teach others how to fix things themselves. It&rsquo\;s amazing being around so many energetic and enthusiastic volunteers every day at the TinkerMill.&rdquo\;</span></p>\n\n<p><span style="background-color:transparent\; color:rgb(0\, 0\, 0)\; font-family:arial\,sans-serif\; font-size:11pt">CE Raum - TinkerMill Member and Vice President TinkerMill Board of Directors</span></p>\n&nbsp\;\n\n<h2><span style="background-color:transparent\; color:rgb(0\, 0\, 0)\; font-family:arial\,sans-serif\; font-size:16pt">Event Details:</span></h2>\n\n<ul>\n	<li>\n	<p><span style="background-color:transparent\; font-size:11pt">Date: </span><span style="background-color:transparent\; font-size:11pt">&nbsp\;&nbsp\; &nbsp\;</span><span style="background-color:transparent\; font-size:11pt">&nbsp\;&nbsp\; &nbsp\;</span><span style="background-color:transparent\; font-size:11pt">October 21</span></p>\n	</li>\n	<li>\n	<p><span style="background-color:transparent\; font-size:11pt">Time: </span><span style="background-color:transparent\; font-size:11pt">&nbsp\;&nbsp\; &nbsp\;</span><span style="background-color:transparent\; font-size:11pt">&nbsp\;&nbsp\; &nbsp\;</span><span style="background-color:transparent\; font-size:11pt">8:00 AM &ndash\; 4:00 PM</span></p>\n	</li>\n	<li>\n	<p><span style="background-color:transparent\; font-size:11pt">Location: </span><span style="background-color:transparent\; font-size:11pt">&nbsp\;&nbsp\; &nbsp\;</span><span style="background-color:transparent\; font-size:11pt">TinkerMill</span></p>\n	</li>\n</ul>\n\n<p style="margin-left:72pt"><span style="background-color:transparent\; color:rgb(0\, 0\, 0)\; font-family:arial\,sans-serif\; font-size:11pt">1840 Delaware Place\, Unit A</span></p>\n\n<p style="margin-left:72pt"><span style="background-color:transparent\; color:rgb(0\, 0\, 0)\; font-family:arial\,sans-serif\; font-size:11pt">Longmont\, CO 80501</span></p>\n\n<ul>\n	<li>\n	<p><span style="background-color:transparent\; font-size:11pt">Admission: </span><span style="background-color:transparent\; font-size:11pt">&nbsp\;&nbsp\; &nbsp\;</span><span style="background-color:transparent\; font-size:11pt">Free for all! Donations appreciated.</span></p>\n	</li>\n</ul>\n&nbsp\;\n\n<p><span style="background-color:transparent\; color:rgb(0\, 0\, 0)\; font-family:arial\,sans-serif\; font-size:11pt">All community members are invited\, whether they have items in need of repair\, wish to offer their repair expertise\, or simply want to experience the spirit of the event. Potential volunteers or those wishing to share their repair skills are also encouraged to connect.</span></p>\n&nbsp\;\n\n<p><span style="background-color:transparent\; color:rgb(0\, 0\, 0)\; font-family:arial\,sans-serif\; font-size:11pt">For further details about the Repair Caf&eacute\; at TinkerMill or to schedule interviews\, please reach out to:</span></p>\n&nbsp\;\n\n<p><span style="background-color:transparent\; color:rgb(0\, 0\, 0)\; font-family:arial\,sans-serif\; font-size:11pt">Erin Hoard - Executive Director</span></p>\n\n<p><span style="background-color:transparent\; color:rgb(0\, 0\, 0)\; font-family:arial\,sans-serif\; font-size:11pt">720-204-3090</span></p>\n\n<p><span style="background-color:transparent\; color:rgb(0\, 0\, 0)\; font-family:arial\,sans-serif\; font-size:11pt">erin.hoard@tinkermill.org&nbsp\;</span></p>\n&nbsp\;\n\n<h2><span style="background-color:transparent\; color:rgb(0\, 0\, 0)\; font-family:arial\,sans-serif\; font-size:16pt">About TinkerMill:</span></h2>\n\n<p><span style="background-color:rgb(247\, 247\, 248)\; color:rgb(55\, 65\, 81)\; font-family:roboto\,sans-serif\; font-size:12pt">TinkerMill\, based in Longmont\, Colorado\, is the premier makerspace in the Rocky Mountain region\, boasting over 700 members. As a 501(c)(3) non-profit\, we foster a collaborative community focused on learning\, teaching\, and innovation. Our vibrant membership champions entrepreneurial endeavors\, emphasizing STEM and art\, and plays a pivotal role in Longmont&rsquo\;s economic and community development.</span></p>\n&nbsp\;\n\n<h2><span style="background-color:transparent\; color:rgb(0\, 0\, 0)\; font-family:arial\,sans-serif\; font-size:16pt">About International Repair Day:</span></h2>\n\n<p><span style="background-color:transparent\; color:rgb(0\, 0\, 0)\; font-family:arial\,sans-serif\; font-size:11pt">Celebrated globally on the third Saturday of October\, International Repair Day champions the significance of repair in curtailing waste and environmental harm. It inspires communities around the world to prioritize repair as a critical component of environmental stewardship.</span></p>\n\n<div>&nbsp\;</div>\n
LOCATION:TinkerMill 1840 Delaware Place Unit A Longmont CO 80501
UID:e.3083.9966
SEQUENCE:3
DTSTAMP:20260422T215438Z
URL:https://members.longmontchamber.org/events/details/tinkermill-s-inaugural-repair-cafe-9966
END:VEVENT

END:VCALENDAR
