BEGIN:VCALENDAR
VERSION:2.0
PRODID:-//ChamberMaster//Event Calendar 2.0//EN
METHOD:PUBLISH
X-PUBLISHED-TTL:P3D
REFRESH-INTERVAL:P3D
CALSCALE:GREGORIAN
BEGIN:VEVENT
DTSTART:20211204T170000Z
DTEND:20211205T010000Z
X-MICROSOFT-CDO-ALLDAYEVENT:FALSE
SUMMARY:'Tis the Season'\, Let's All Be Jolly!
DESCRIPTION:This Saturday December 4th\, Snow Apparel is offering a "Gift with Purchase" for our FIRST 20 Shoppers!
X-ALT-DESC;FMTTYPE=text/html:<span style="color:black"><span style="font-size:12.0pt">This Saturday December 4th\, Snow Apparel is offering a&nbsp\;</span></span><strong><span style="color:red"><span style="font-size:12.0pt">&quot\;Gift with Purchase&quot\; for our FIRST 20 Shoppers!</span></span></strong>
LOCATION:520 Main St. #B1 Longmont\, CO 80501
UID:e.3083.8640
SEQUENCE:3
DTSTAMP:20260424T062939Z
URL:https://members.longmontchamber.org/events/details/tis-the-season-let-s-all-be-jolly-8640
END:VEVENT

END:VCALENDAR
