BEGIN:VCALENDAR
VERSION:2.0
PRODID:-//ChamberMaster//Event Calendar 2.0//EN
METHOD:PUBLISH
X-PUBLISHED-TTL:P3D
REFRESH-INTERVAL:P3D
CALSCALE:GREGORIAN
BEGIN:VEVENT
DTSTART:20220423T170000Z
DTEND:20220423T210000Z
X-MICROSOFT-CDO-ALLDAYEVENT:FALSE
SUMMARY:Toss Like A Boss Cobb-tastic Cornhole Tournament
DESCRIPTION:Toss Like A Boss \n\nCobb-tastic Cornhole Tournament\n\n\n\nBenefiting Safe Shelter of St. Vrain to support improvements to the emergency shelter.\n\n \n\nSaturday\, April 23rd\, 11-3 PM\n\nWibby Brewing\n\n209 Emery Street\n\nLongmont\, CO  \n\n \n\nThrough our Emergency Shelter and Outreach facilities\, Safe Shelter meets our clients on any point along their road toward a life of healing\, self-sufficiency and dignity. We advocate for the right of every individual to live a life free of intimidation\, exploitation\, and abuse.\n\n \n\nCornhole tournament entries are $120 per two-person team and include food and beer.\n\n\n\nWe are raffling off some awesome prizes:\n\n	A 4-person Brewer-for-a-Day Brewing Package that comes with t-shirts\, lunch and beer! Take your beer loving skills to task and brew with a medal-winning brewery!\n	A beautiful set of cornhole boards so you can play anywhere\, anytime!\n\n\nRaffle tickets are $5/each\, 6/$25.  You do not need to be present to win.\n\n\n\nBe a sponsor for $1\,000 and support improvements to the shelter.\n\nYour sponsorship includes: \n\n       Customized Boards with your company logo or design of your choice which you can use at           the tournament for increased exposure!\n\n       One team of two\n\n       Food and Beer\n\n       Your logo on all flyers\, social media marketing\, and advertising.\n\n \n\nFor sponsorships\, contact Jaime Mast jaime.mast@gmail.com
X-ALT-DESC;FMTTYPE=text/html:<strong><span style="font-family:verdana\,sans-serif"><span style="font-size:10pt">Toss Like A Boss</span></span></strong>&nbsp\;<br />\n<span style="font-family:verdana\,sans-serif"><span style="font-size:10pt"><em>Cobb-tastic Cornhole Tournament</em><br />\n<br />\nBenefiting&nbsp\;Safe Shelter of St. Vrain to support improvements to the emergency shelter.</span></span><br />\n&nbsp\;<br />\n<span style="font-family:verdana\,sans-serif"><span style="font-size:10pt">Saturday\, April 23rd\, 11-3 PM<br />\nWibby Brewing<br />\n209 Emery Street<br />\nLongmont\, CO&nbsp\;&nbsp\;</span></span><br />\n&nbsp\;<br />\n<span style="font-family:verdana\,sans-serif"><span style="font-size:10pt">Through our Emergency Shelter and Outreach facilities\, Safe Shelter meets our clients on any point along their road toward a life of healing\, self-sufficiency and dignity.&nbsp\;</span></span><span style="font-family:verdana\,sans-serif"><span style="font-size:10pt">We advocate for the right of every individual to live a life free of intimidation\, exploitation\, and abuse.</span></span><br />\n&nbsp\;<br />\n<span style="font-family:verdana\,sans-serif"><span style="font-size:10pt">Cornhole tournament entries are $120 per two-person team and include food and beer.<br />\n<br />\nWe are raffling off some awesome prizes:</span></span>\n<ul>\n	<li><span style="font-family:verdana\,sans-serif"><span style="font-size:10pt">A 4-person Brewer-for-a-Day Brewing Package that comes with t-shirts\, lunch and beer! Take your beer loving skills to task and brew with a medal-winning brewery!</span></span></li>\n	<li><span style="font-family:verdana\,sans-serif"><span style="font-size:10pt">A beautiful set of cornhole boards so you can play anywhere\, anytime!</span></span></li>\n</ul>\n\n<p><span style="font-family:verdana\,sans-serif"><span style="font-size:10pt">Raffle tickets are $5/each\, 6/$25. &nbsp\;You do not need to be present to win.<br />\n<br />\nBe a sponsor for $1\,000 and support improvements to the shelter.</span></span></p>\n\n<p><span style="font-family:verdana\,sans-serif"><span style="font-size:10pt">Your sponsorship includes:</span></span>&nbsp\;<br />\n<span style="font-family:verdana\,sans-serif"><span style="font-size:10pt">&middot\;&nbsp\; &nbsp\; &nbsp\; Customized Boards with your company logo or design of your choice which you can use at&nbsp\; &nbsp\; &nbsp\; &nbsp\; &nbsp\; &nbsp\;the tournament for increased exposure!</span></span><br />\n<span style="font-family:verdana\,sans-serif"><span style="font-size:10pt">&middot\; &nbsp\; &nbsp\; &nbsp\;One team of two</span></span><br />\n<span style="font-family:verdana\,sans-serif"><span style="font-size:10pt">&middot\; &nbsp\; &nbsp\; &nbsp\;Food and Beer</span></span><br />\n<span style="font-family:verdana\,sans-serif"><span style="font-size:10pt">&middot\; &nbsp\; &nbsp\; &nbsp\;Your logo on all flyers\, social media marketing\, and advertising.</span></span><br />\n&nbsp\;<br />\n<span style="font-family:verdana\,sans-serif"><span style="font-size:10pt">For sponsorships\, contact Jaime Mast jaime.mast@gmail.com</span></span><br />\n<br />\n<br />\n&nbsp\;<br />\n&nbsp\;</p>\n
LOCATION:Wibby Brewing 209 Emery Street\, Longmont
UID:e.3083.8678
SEQUENCE:3
DTSTAMP:20260424T000150Z
URL:https://members.longmontchamber.org/events/details/toss-like-a-boss-cobb-tastic-cornhole-tournament-8678
END:VEVENT

END:VCALENDAR
