BEGIN:VCALENDAR
VERSION:2.0
PRODID:-//ChamberMaster//Event Calendar 2.0//EN
METHOD:PUBLISH
X-PUBLISHED-TTL:P3D
REFRESH-INTERVAL:P3D
CALSCALE:GREGORIAN
BEGIN:VEVENT
DTSTART:20240321T180000Z
DTEND:20240321T190000Z
X-MICROSOFT-CDO-ALLDAYEVENT:FALSE
SUMMARY:Totally Tacos and Margaritas
DESCRIPTION:Tacos!! Margaritas!! and Fun!!\n\n\n\nCome enjoy a great event with the Longmont Regent community and staff. While you're here enjoy a tour to see what we have to offer.\n\n\n\nPlease RSVP with Garry at 303-709-8313 or at garry.durling@atriaseniorliving.com
X-ALT-DESC;FMTTYPE=text/html:Tacos!! Margaritas!! and Fun!!<br />\n<br />\nCome enjoy a great event with the Longmont Regent community and staff. While you&#39\;re here enjoy a tour to see what we have to offer.<br />\n<br />\nPlease RSVP with Garry at 303-709-8313 or at garry.durling@atriaseniorliving.com
LOCATION:2210 Main St Longmont Co\, 80501
UID:e.3083.10066
SEQUENCE:3
DTSTAMP:20260422T121544Z
URL:https://members.longmontchamber.org/events/details/totally-tacos-and-margaritas-10066
END:VEVENT

END:VCALENDAR
