BEGIN:VCALENDAR
VERSION:2.0
PRODID:-//ChamberMaster//Event Calendar 2.0//EN
METHOD:PUBLISH
X-PUBLISHED-TTL:P3D
REFRESH-INTERVAL:P3D
CALSCALE:GREGORIAN
BEGIN:VEVENT
DTSTART:20250124T000000Z
DTEND:20250124T040000Z
X-MICROSOFT-CDO-ALLDAYEVENT:FALSE
SUMMARY:Tour the Mediterranean Wine Dinner with Kuper Wine Bar
DESCRIPTION:A collaboration with Kuper Wine Bar / 4 Course Wine Dinner\n\n\n\n"Tour the Mediterranean" each course with a wine pairing taking you to a different country along the Mediterranean Sea.\n\n\n\nReservations can be made at:\n\nhttps://www.exploretock.com/kuper-wine-bar-longmont/event/523639/tour-the-mediterranean-kuper-wine-dinner\nUpon arrival \n\nMira Brut Selection Cava\, Catalonia\, Spain\n\nFirst Course\n\nMOROCCO\n\nBriouat\n\nToasted Almond Apricot Briouat | Mint Pesto\n\nWine Art Plano Drama Assyrtiko\, \n\nSantorini\, Greece\n\n \n\nSecond Course\n\nGREECE\n\nShrimp Saganaki\n\nBroiled Shrimp | Rustic Tomato Sauce | Haloumi Cheese | Fresh Herbs | Ouzo\n\nVicus Irpina Falangina\, Campagna\, Italy\n\n \n\nThird Course\n\nSPAIN\n\nIberica Pressa\n\nGrilled Spanish Pork Steak Medallions | Romesco Sauce | Catalan Rice | Braised Fennel |\n\nGrilled Carrots and Asparagus\n\nMarques de Murrieta Rioja Reserva\, Rioja Alta\, Spain\n\n \n\nFourth Course  \n\nFRANCE\n\nHazelnut Chocolate Truffles\n\nRaspberry Coulis\n\nRamos Pinto Late Bottle Vintage Port\, Douro Valley\, Portugal
X-ALT-DESC;FMTTYPE=text/html:<strong>A collaboration with Kuper Wine Bar / 4 Course Wine Dinner</strong><br />\n<br />\n<span style="font-size:22px"><span style="color:#A52A2A"><em><strong>&quot\;Tour the Mediterranean&quot\; </strong></em></span></span>each course with a wine pairing taking you to a different country along the Mediterranean Sea.<br />\n<br />\n<strong>Reservations can be made at:</strong><br />\n<a href="https://www.exploretock.com/kuper-wine-bar-longmont/event/523639/tour-the-mediterranean-kuper-wine-dinner">https://www.exploretock.com/kuper-wine-bar-longmont/event/523639/tour-the-mediterranean-kuper-wine-dinner</a>\n<p style="text-align:center"><strong>Upon arrival </strong></p>\n\n<p style="text-align:center"><strong><em>Mira Brut Selection Cava\, Catalonia\, Spain</em></strong></p>\n\n<p style="text-align:center"><u><em>First Course</em></u></p>\n\n<p style="text-align:center"><strong style="font-size:18px"><span style="color:#A52A2A">MOROCCO</span></strong></p>\n\n<p style="text-align:center"><strong>Briouat</strong></p>\n\n<p style="text-align:center">Toasted Almond Apricot Briouat | Mint Pesto</p>\n\n<p style="text-align:center"><strong><em>Wine Art Plano Drama Assyrtiko\, </em></strong></p>\n\n<p style="text-align:center"><strong><em>Santorini\, Greece</em></strong></p>\n\n<p style="text-align:center">&nbsp\;</p>\n\n<p style="text-align:center"><u><em>Second Course</em></u></p>\n\n<p style="text-align:center"><span style="color:#A52A2A"><span style="font-size:18px"><strong>GREECE</strong></span></span></p>\n\n<p style="text-align:center"><strong>Shrimp Saganaki</strong></p>\n\n<p style="text-align:center">Broiled Shrimp | Rustic Tomato Sauce | Haloumi Cheese | Fresh Herbs | Ouzo</p>\n\n<p style="text-align:center"><strong><em>Vicus Irpina Falangina\, Campagna\, Italy</em></strong></p>\n\n<p style="text-align:center">&nbsp\;</p>\n\n<p style="text-align:center"><u>Third Course</u></p>\n\n<p style="text-align:center"><strong><span style="font-size:18px"><span style="color:#A52A2A">SPAIN</span></span></strong></p>\n\n<p style="text-align:center"><strong>Iberica Pressa</strong></p>\n\n<p style="text-align:center">Grilled Spanish Pork Steak Medallions | Romesco Sauce | Catalan Rice | Braised Fennel |</p>\n\n<p style="text-align:center">Grilled Carrots and Asparagus</p>\n\n<p style="text-align:center"><strong><em>Marques de Murrieta Rioja Reserva\, Rioja Alta\, Spain</em></strong></p>\n\n<p style="text-align:center">&nbsp\;</p>\n\n<p style="text-align:center"><em><u>Fourth Course</u> <span style="font-family:drumag studio nf\; font-size:12px">&nbsp\;</span></em></p>\n\n<p style="text-align:center"><strong><span style="font-size:18px"><span style="color:#A52A2A">FRANCE</span></span></strong></p>\n\n<p style="text-align:center"><strong>Hazelnut Chocolate Truffles</strong></p>\n\n<p style="text-align:center">Raspberry Coulis</p>\n\n<p style="text-align:center"><strong><em>Ramos Pinto Late Bottle Vintage Port\, Douro Valley\, Portugal</em></strong></p>\n
LOCATION:Red Cedar Bistro Reserve through Kuper Wine Bar website
UID:e.3083.10726
SEQUENCE:3
DTSTAMP:20260421T190317Z
URL:https://members.longmontchamber.org/events/details/tour-the-mediterranean-wine-dinner-with-kuper-wine-bar-10726
END:VEVENT

END:VCALENDAR
