BEGIN:VCALENDAR
VERSION:2.0
PRODID:-//ChamberMaster//Event Calendar 2.0//EN
METHOD:PUBLISH
X-PUBLISHED-TTL:P3D
REFRESH-INTERVAL:P3D
CALSCALE:GREGORIAN
BEGIN:VEVENT
DTSTART:20250927T180000Z
DTEND:20250927T220000Z
X-MICROSOFT-CDO-ALLDAYEVENT:FALSE
SUMMARY:Townie Fest | The Post Brewing Company
DESCRIPTION:TOWNIE FEST IS BACK BABY! \n\n\n\nWe're throwing a full-blown block party and family friendly festival that brings the heat with open fire cooking\, craft beer\, live music\, and all things Colorado-made.... for a great cause!\n\n\n\nThis year\, we're raising money for the Lafayette Fire Department and wildfire mitigation in Boulder County through The Boulder Watershed Collective. We're specifically looking to raise $10\,000 for a Boulder Watershed Collective project in the Sans Souci Mobile Home Community off Highway 93 that helps protect our most vulnerable communities from wildfire. \n\n\n\nThis festival is all about FIRE\, featuring Pueblo chiles\, live fire cooking\, beneficiaries focused on fire safety\, hot groovy tunes\, and even a cask of spicy beer brewed with dried ancho and arbol chiles. But don't mistake it for the FYRE FESTIVAL. We've got our spicy ducks in a hot little row.
X-ALT-DESC;FMTTYPE=text/html:<br />\n<a href="https://www.thepostcolorado.com/townie-fest/"><span style="font-size:18px\;">TOWNIE FEST</span></a><span style="font-size:18px\;"> IS BACK BABY!&nbsp\;</span><br />\n<br />\nWe&rsquo\;re throwing a full-blown block party and family friendly festival that brings the heat with open fire cooking\, craft beer\, live music\, and all things Colorado-made.... for a great cause!<br />\n<br />\nThis year\, we&#39\;re raising money for the <a href="https://www.lafayetteco.gov/94/Fire-Department">Lafayette Fire Department</a> and wildfire mitigation in Boulder County through <a href="https://www.boulderwatershedcollective.com/">The Boulder Watershed Collective</a>. We&#39\;re specifically looking to raise $10\,000 for a Boulder Watershed Collective project in the Sans Souci Mobile Home Community off Highway 93 that helps protect our most vulnerable communities from wildfire.&nbsp\;<br />\n<br />\nThis festival is all about FIRE\, featuring Pueblo chiles\, live fire cooking\, beneficiaries focused on fire safety\, hot groovy tunes\, and even a cask of spicy beer brewed with dried ancho and arbol chiles. But don&#39\;t mistake it for the FYRE FESTIVAL. We&#39\;ve got our spicy ducks in a hot little row.&nbsp\;
LOCATION:
UID:e.3083.14251
SEQUENCE:3
DTSTAMP:20260421T064141Z
URL:https://members.longmontchamber.org/events/details/townie-fest-the-post-brewing-company-14251
END:VEVENT

END:VCALENDAR
