BEGIN:VCALENDAR
VERSION:2.0
PRODID:-//ChamberMaster//Event Calendar 2.0//EN
METHOD:PUBLISH
X-PUBLISHED-TTL:P3D
REFRESH-INTERVAL:P3D
CALSCALE:GREGORIAN
BEGIN:VEVENT
DTSTART:20250802T000000Z
DTEND:20250802T030000Z
X-MICROSOFT-CDO-ALLDAYEVENT:FALSE
SUMMARY:Trace & Baerd
DESCRIPTION:Trace & Baerd with Lucy Moore at Wibby Brewing beautiful open-air pavilion on Friday\, August 1st! FREE. ALL AGES.\n\nAbout the Artists:\n\nOne fiddle\, one guitar\, one friendship that's all you need. At least\, that's what Colorado's own Trace & Baerd demonstrate. They write songs that sound like memories wordlessly weaving together strands of Celtic\, Americana\, Scandinavian\, Bluegrass\, Jazz\, and Magic to create something new and yet deeply familiar.\n\nElevation\, their all-original debut album produced by Punch Brothers' own Brittany Haas\, is a celebration of honesty\, spontaneity\, and sincerity. It pairs best with your morning coffee\, your afternoon walk\, or your long drive home. Lush\, stark\, calming\, uplifting\, surprising and familiar\, the music of Trace & Baerd is what it sounds like to set off on a journey with a friend by your side.\n\nwww.traceandbaerd.com\n\nLucy is a singer and multi-instrumentalist making music in Lyons\, Colorado with her band THE NIGHT CHILDREN\, playing some of the thousands of songs that she has collected and loved in her lifelong study of American music\, one handful at a time.\n\nhttps://lucymooremusic.com
X-ALT-DESC;FMTTYPE=text/html:<div>Trace &amp\; Baerd with Lucy Moore at Wibby Brewing beautiful open-air pavilion on Friday\, August 1st! FREE. ALL AGES.</div>\n\n<div>About the Artists:<br />\nOne fiddle\, one guitar\, one friendship&mdash\;that&rsquo\;s all you need. At least\, that&rsquo\;s what Colorado&rsquo\;s own Trace &amp\; Baerd demonstrate. They write songs that sound like memories&mdash\;wordlessly weaving together strands of Celtic\, Americana\, Scandinavian\, Bluegrass\, Jazz\, and Magic to create something new and yet deeply familiar.</div>\n\n<div>Elevation\, their all-original debut album produced by Punch Brothers&rsquo\; own Brittany Haas\, is a celebration of honesty\, spontaneity\, and sincerity. It pairs best with your morning coffee\, your afternoon walk\, or your long drive home. Lush\, stark\, calming\, uplifting\, surprising and familiar\, the music of Trace &amp\; Baerd is what it sounds like to set off on a journey with a friend by your side.</div>\n\n<div><a class="x1i10hfl xjbqb8w x1ejq31n x18oe1m7 x1sy0etr xstzfhl x972fbf x10w94by x1qhh985 x14e42zd x9f619 x1ypdohk xt0psk2 xe8uvvx xdj266r x14z9mp xat24cr x1lziwak xexx8yu xyri2b x18d9i69 x1c1uobl x16tdsg8 x1hl2dhg xggy1nq x1a2a7pz xkrqix3 x1sur9pj x1fey0fg x1s688f" href="http://www.traceandbaerd.com/?fbclid=IwZXh0bgNhZW0CMTAAYnJpZBExVDVBSXBhV0NyZnc1cWRWUAEecUFgZp-x0zgfzfZgt4Ndkhj8CDawNMkXBsPgB8Fy1l5rtABwkfbR1X3gKlc_aem__4yo5GRTFp1M5mrwdH5_LQ" rel="nofollow noreferrer" style="color: var(--blue-link)\; cursor: pointer\; text-decoration-line: none\; list-style: none\; border-width: 0px\; margin: 0px\; text-align: inherit\; border-style: none\; padding: 0px\; box-sizing: border-box\; background-color: transparent\; outline: none\; -webkit-tap-highlight-color: transparent\; font-weight: 600\; touch-action: manipulation\; display: inline\; font-family: inherit\;" tabindex="0" target="_blank">www.traceandbaerd.com</a></div>\n\n<div>Lucy is a singer and multi-instrumentalist making music in Lyons\, Colorado with her band THE NIGHT CHILDREN\, playing some of the thousands of songs that she has collected and loved in her lifelong study of American music\, one handful at a time.</div>\n\n<div><a class="x1i10hfl xjbqb8w x1ejq31n x18oe1m7 x1sy0etr xstzfhl x972fbf x10w94by x1qhh985 x14e42zd x9f619 x1ypdohk xt0psk2 xe8uvvx xdj266r x14z9mp xat24cr x1lziwak xexx8yu xyri2b x18d9i69 x1c1uobl x16tdsg8 x1hl2dhg xggy1nq x1a2a7pz xkrqix3 x1sur9pj x1fey0fg x1s688f" href="https://lucymooremusic.com/?fbclid=IwZXh0bgNhZW0CMTAAYnJpZBExVDVBSXBhV0NyZnc1cWRWUAEex_4g5pEmVfLaWIJU3cIIoMiePcpbqmYtbxotmuZoKBSUwf0_MuFpkYS5qXw_aem_HYl-eiQ6kTg7cb7qQe3z6Q" rel="nofollow noreferrer" style="color: var(--blue-link)\; cursor: pointer\; text-decoration-line: none\; list-style: none\; border-width: 0px\; margin: 0px\; text-align: inherit\; border-style: none\; padding: 0px\; box-sizing: border-box\; background-color: transparent\; outline: none\; -webkit-tap-highlight-color: transparent\; font-weight: 600\; touch-action: manipulation\; display: inline\; font-family: inherit\;" tabindex="0" target="_blank">https://lucymooremusic.com</a></div>\n
LOCATION:Wibby Brewing at 209 Emery St. in Longmont\, CO 80501
UID:e.3083.13594
SEQUENCE:3
DTSTAMP:20260421T093606Z
URL:https://members.longmontchamber.org/events/details/trace-baerd-13594
END:VEVENT

END:VCALENDAR
