BEGIN:VCALENDAR
VERSION:2.0
PRODID:-//ChamberMaster//Event Calendar 2.0//EN
METHOD:PUBLISH
X-PUBLISHED-TTL:P3D
REFRESH-INTERVAL:P3D
CALSCALE:GREGORIAN
BEGIN:VEVENT
DTSTART:20251009T003000Z
DTEND:20251009T023000Z
X-MICROSOFT-CDO-ALLDAYEVENT:FALSE
SUMMARY:Trivia Night at the Kuper
DESCRIPTION:Come test your knowledge when Kuper hosts Trivia Night on the 2nd & 4th Wednesday of each month. \n\n\n\nTrivia is run by Trevonious Monk and the competition is fierce!! \n\n\n\nWe have weekly prizes for the top 3 teams\n\n\n\nTrivia runs from 6:30pm-8:30pm and teams can have up to 6 people.
X-ALT-DESC;FMTTYPE=text/html:<br />\n<span style="color:rgb(0\, 0\, 0)\; font-family:oracle\,helvetica\,sans-serif\; font-size:16px"><span style="font-size:22px\;">Come test your knowledge when Kuper hosts Trivia Night on the 2nd &amp\; 4th Wednesday of each month.&nbsp\;<br />\n<br />\nTrivia is run by Trevonious Monk and the competition is fierce!!&nbsp\;<br />\n<br />\nWe have weekly prizes for the top 3 teams</span></span><br />\n<br />\n<span style="font-size:22px\;"><span style="color: rgb(0\, 0\, 0)\; font-family: oracle\, helvetica\, sans-serif\;">Trivia runs from 6:30pm-8:30pm and teams can have up to 6 people.</span></span>
LOCATION:Kuper Wine Bar
UID:e.3083.11687
SEQUENCE:3
DTSTAMP:20260421T052159Z
URL:https://members.longmontchamber.org/events/details/trivia-night-at-the-kuper-10-08-2025-11687
END:VEVENT

END:VCALENDAR
