BEGIN:VCALENDAR
VERSION:2.0
PRODID:-//ChamberMaster//Event Calendar 2.0//EN
METHOD:PUBLISH
X-PUBLISHED-TTL:P3D
REFRESH-INTERVAL:P3D
CALSCALE:GREGORIAN
BEGIN:VEVENT
DTSTART:20250329T200000Z
DTEND:20250329T213000Z
X-MICROSOFT-CDO-ALLDAYEVENT:FALSE
SUMMARY:Tuning Into You: Exploring Health and Well-Being Through Your Voice
DESCRIPTION:Our voices can be a powerful tool for improving overall health and well-being. In this workshop\, we'll engage in accessible and enjoyable vocal activities designed to help you deepen your relationship to your voice while also enhancing your emotional and physical health. No prior vocal experience necessary in this workshop led by Licensed Professional Counselor and board-certified music therapist\, Faith Halverson-Ramos.
X-ALT-DESC;FMTTYPE=text/html:<br />\n<span style="font-size:18px\;"><span style="color: rgb(34\, 34\, 34)\; font-family: arial\;">Our voices can be a powerful tool for improving overall health and well-being. In this workshop\, we&#39\;ll engage in accessible and enjoyable vocal activities designed to help you deepen your relationship to your voice while also enhancing your emotional and physical health. No prior vocal experience necessary in this workshop led by Licensed Professional Counselor and board-certified music therapist\, Faith Halverson-Ramos.</span></span>
LOCATION:Butterscotch Studios
UID:e.3083.10945
SEQUENCE:3
DTSTAMP:20260421T160717Z
URL:https://members.longmontchamber.org/events/details/tuning-into-you-exploring-health-and-well-being-through-your-voice-10945
END:VEVENT

END:VCALENDAR
