BEGIN:VCALENDAR
VERSION:2.0
PRODID:-//ChamberMaster//Event Calendar 2.0//EN
METHOD:PUBLISH
X-PUBLISHED-TTL:P3D
REFRESH-INTERVAL:P3D
CALSCALE:GREGORIAN
BEGIN:VEVENT
DTSTART:20200416T160000Z
DTEND:20200416T200000Z
X-MICROSOFT-CDO-ALLDAYEVENT:FALSE
SUMMARY:UCHealth Longs Peak Hospital Mobile Blood Drive
DESCRIPTION:Healthy people are needed to donate blood. \nOne blood donation can save up to three lives. Please consider lending an arm to strengthen our critically low blood supply\, and encourage friends and family who are healthy to do the same. \n\n Sign up for our mobile blood drives at Longs Peak Hospital on: \n\n\n	April 16\n	June 18\n	September 3 \n	December 10\n\n\nYour blood supplies Longs Peak Hospital\, Greeley Hospital\, Medical Center of the Rockies and Poudre Valley Hospital.
X-ALT-DESC;FMTTYPE=text/html:<strong>Healthy people are needed to donate blood.&nbsp\;</strong>\n<p>One blood donation can save up to three lives.&nbsp\;Please consider lending an arm to strengthen our critically low blood supply\, and encourage friends and family who are healthy to do the same.&nbsp\;</p>\n\n<p><strong>&nbsp\;Sign up for our mobile blood drives at Longs Peak Hospital on:&nbsp\;</strong></p>\n\n<ul>\n	<li><strong>April 16</strong></li>\n	<li><strong>June 18</strong></li>\n	<li><strong>September 3&nbsp\;</strong></li>\n	<li><strong>December 10</strong></li>\n</ul>\n\n<p>Your blood supplies Longs Peak Hospital\, Greeley Hospital\, Medical Center of the Rockies and Poudre Valley Hospital.&nbsp\;</p>\n
LOCATION:UCHealth Longs Peak Hospital 1750 E. Ken Pratt Blvd. Longmont\, CO 80504
UID:e.3083.7573
SEQUENCE:3
DTSTAMP:20260425T153055Z
URL:https://members.longmontchamber.org/events/details/uchealth-longs-peak-hospital-mobile-blood-drive-7573
END:VEVENT

END:VCALENDAR
