BEGIN:VCALENDAR
VERSION:2.0
PRODID:-//ChamberMaster//Event Calendar 2.0//EN
METHOD:PUBLISH
X-PUBLISHED-TTL:P3D
REFRESH-INTERVAL:P3D
CALSCALE:GREGORIAN
BEGIN:VEVENT
DTSTART:20240508T200000Z
DTEND:20240508T220000Z
X-MICROSOFT-CDO-ALLDAYEVENT:FALSE
SUMMARY:Understanding Your Long Term Care Policy
DESCRIPTION:You are invited to join us for this informative event at Balfour Longmont!\n\n\n\nDallas Powell is the Longmont expert on long-term care insurance. He comes to the this expertise after spending 30+ years in agricultural pharmacy but still needing to do more to help his fellow residents of Longmont.\n\n\n\nDallas has brought peace of mind to many Longmonsters by sharing his knowledge about long-term care.\n\n\n\nPlease RSVP for this event. Seating is limited. First come\, first serve.
X-ALT-DESC;FMTTYPE=text/html:You are invited to join us for this informative event at Balfour Longmont!<br />\n<br />\nDallas Powell is the Longmont expert on long-term care insurance. He comes to the this expertise after spending 30+ years in agricultural pharmacy but still needing to do more to help his fellow residents of Longmont.<br />\n<br />\nDallas has brought peace of mind to many Longmonsters by sharing his knowledge about long-term care.<br />\n<br />\nPlease RSVP for this event. Seating is limited. First come\, first serve.
LOCATION:1850 S. Hover St. Longmont\, CO 80501
UID:e.3083.10083
SEQUENCE:3
DTSTAMP:20260422T103244Z
URL:https://members.longmontchamber.org/events/details/understanding-your-long-term-care-policy-10083
END:VEVENT

END:VCALENDAR
