BEGIN:VCALENDAR
VERSION:2.0
PRODID:-//ChamberMaster//Event Calendar 2.0//EN
METHOD:PUBLISH
X-PUBLISHED-TTL:P3D
REFRESH-INTERVAL:P3D
CALSCALE:GREGORIAN
BEGIN:VEVENT
DTSTART:20250628T230000Z
DTEND:20250629T010000Z
X-MICROSOFT-CDO-ALLDAYEVENT:FALSE
SUMMARY:Unicorn Festival
DESCRIPTION:Join us for an enchanting evening celebrating the magic of horses and their incredible impact on our lives! The Unicorn Festival is more than just a whimsical gathering it's an opportunity to honor and appreciate these incredible animals\, learn about their well-being\, and support their vital role in therapy and emotional healing.\n\nWhy We Celebrate:\n\nHorses offer comfort\, wisdom\, and companionship\, and through this festival\, we invite the community to deepen their connection with them. From fun-filled activities to moments of reflection\, this event highlights horses as sentient beings with emotions\, intelligence\, and the power to transform lives.\n\nWhat to Expect:\n\nHorse Bingo Scavenger Hunt   Explore the barn and surrounding areas\, complete your bingo card\, and win exciting prizes!\n\nHorse Oracle Card Readings   Gain insight and inspiration through mystical horse oracle card readings with our therapist.\n\nUnicorn Parade   Watch our beautifully decorated unicorns prance around the barn\, spreading joy and magic.\n\nUnicorn Photo Ops   Capture a magical moment with our unicorns! \n\nFace Painting   Transform into a unicorn\, fairy\, or any other magical creature!\n\nPizza provided by Papa Johns!\n\nGet Your Ticket Here
X-ALT-DESC;FMTTYPE=text/html:<p><span style="font-size:18px\;">Join us for an <strong>enchanting evening</strong> celebrating the magic of horses and their incredible impact on our lives! The <strong>Unicorn Festival</strong> is more than just a whimsical gathering&mdash\;it&rsquo\;s an opportunity to honor and appreciate these incredible animals\, learn about their well-being\, and support their vital role in therapy and emotional healing.</span></p>\n\n<p><span style="font-size:18px\;"><strong>Why We Celebrate:</strong><br />\nHorses offer <strong>comfort\, wisdom\, and companionship</strong>\, and through this festival\, we invite the community to deepen their connection with them. From fun-filled activities to moments of reflection\, this event highlights horses as <strong>sentient beings</strong> with emotions\, intelligence\, and the power to transform lives.</span></p>\n\n<p><span style="font-size:18px\;"><strong>What to Expect:</strong></span></p>\n\n<p><span style="font-size:18px\;"><strong>Horse Bingo Scavenger Hunt</strong> &ndash\; Explore the barn and surrounding areas\, complete your bingo card\, and win exciting prizes!<br />\n<strong>Horse Oracle Card Readings</strong> &ndash\; Gain insight and inspiration through mystical horse oracle card readings with our therapist.<br />\n<strong>Unicorn Parade</strong> &ndash\; Watch our beautifully decorated unicorns prance around the barn\, spreading joy and magic.<br />\n<strong>Unicorn Photo Ops</strong> &ndash\; Capture a magical moment with our unicorns!&nbsp\;<br />\n<strong>Face Painting</strong> &ndash\; Transform into a unicorn\, fairy\, or any other magical creature!<br />\n<strong>Pizza provided by Papa Johns!</strong></span></p>\n\n<p style="text-align: center\;"><span style="font-size:18px\;"><span style="font-size:22px\;"><strong><a href="https://secure.qgiv.com/for/communevent/event/unicornfestival2025/">Get Your Ticket Here</a></strong></span></span><br />\n&nbsp\;</p>\n
LOCATION:
UID:e.3083.13457
SEQUENCE:3
DTSTAMP:20260421T111223Z
URL:https://members.longmontchamber.org/events/details/unicorn-festival-13457
END:VEVENT

END:VCALENDAR
