BEGIN:VCALENDAR
VERSION:2.0
PRODID:-//ChamberMaster//Event Calendar 2.0//EN
METHOD:PUBLISH
X-PUBLISHED-TTL:P3D
REFRESH-INTERVAL:P3D
CALSCALE:GREGORIAN
BEGIN:VEVENT
DTSTART:20210827T133000Z
DTEND:20210827T150000Z
X-MICROSOFT-CDO-ALLDAYEVENT:FALSE
SUMMARY:Unity Day Business Before Hours at High Plains Bank
DESCRIPTION:Join us for a very special Business Before Hours at High Plains Bank\, presenting sponsor of Unity in the Community! This morning gathering commemorates Unity in the Community\, which was scheduled for the final Friday of August. Unity in the Community will return in its full festival form in 2022\, but in the meantime\, come celebrate the spirit of Unity with coffee\, breakfast\, and friends!\n\n\n\nAbout High Plains Bank\n\nWe opened the doors to the Longmont location in 2013. We are delighted we have had the opportunity to help launch hundreds of small businesses and provide financial support to thousands of community members. Our local team engages deeply in the community to keep a pulse on the best way to serve. We are grateful to the St. Vrain region for warmly welcoming High Plains Bank into the fabric of our community. Coming soon - a second Longmont location!
X-ALT-DESC;FMTTYPE=text/html:Join us for a very special Business Before Hours at High Plains Bank\, presenting sponsor of Unity in the Community! This morning gathering commemorates Unity in the Community\, which was scheduled for the final Friday of August. Unity in the Community will return in its full festival form in 2022\, but in the meantime\, come celebrate the spirit of Unity with coffee\, breakfast\, and friends!<br />\n<br />\n<strong>About High Plains Bank</strong><br />\nWe opened the doors to the Longmont location in 2013. We are delighted we have had the opportunity to help launch hundreds of small businesses and provide financial support to thousands of community members. Our local team engages deeply in the community to keep a pulse on the best way to serve. We are grateful to the St. Vrain region for warmly welcoming High Plains Bank into the fabric of our community. Coming soon - a second Longmont location!&nbsp\;&nbsp\;
LOCATION:High Plains Bank 600 Kimbark St Longmont\, CO 80501
UID:e.3083.8464
SEQUENCE:3
DTSTAMP:20260424T124032Z
URL:https://members.longmontchamber.org/events/details/unity-day-business-before-hours-at-high-plains-bank-8464
END:VEVENT

END:VCALENDAR
