BEGIN:VCALENDAR
VERSION:2.0
PRODID:-//ChamberMaster//Event Calendar 2.0//EN
METHOD:PUBLISH
X-PUBLISHED-TTL:P3D
REFRESH-INTERVAL:P3D
CALSCALE:GREGORIAN
BEGIN:VEVENT
DTSTART:20250822T220000Z
DTEND:20250823T030000Z
X-MICROSOFT-CDO-ALLDAYEVENT:FALSE
SUMMARY:Unity in the Community
DESCRIPTION:Unity in the Community is a can't-miss summer street festival: family-friendly\, fun\, free\, and full of local flavor! With 100+ local businesses and non-profits\, Unity in the Community is Longmont's biggest block party.\n\n\n\nUnity is an event for everyone! Come meet your neighbors and celebrate Longmont with us on Friday\, August 22 and enjoy local food\, drinks\, games\, and live music from The Spicy Pickles!\n\n\n\n----\n\n\n\nUnidad en la Comunidad es un festival callejero de verano que no te puedes perder\; gratuito y lleno de diversi n para toda la familia\,  lleno de sabor local! Con la participaci n de m s de 100 organizaciones locales\, es la fiesta m s grande de Longmont.\n\n\n\n Ven a celebrar Longmont con nosotros en el centro este 22 de agosto y disfruta de comida\, bebidas\, juegos y m sica en vivo con The Spicy Pickles!
X-ALT-DESC;FMTTYPE=text/html:Unity in the Community is a can&rsquo\;t-miss summer street festival: family-friendly\, fun\, free\, and full of local flavor! With 100+ local businesses and non-profits\, Unity in the Community is Longmont&rsquo\;s biggest block party.<br />\n<br />\nUnity is an event for everyone! Come meet your neighbors and celebrate Longmont with us on Friday\, August 22 and enjoy local food\, drinks\, games\, and live music from The Spicy Pickles!<br />\n<br />\n----<br />\n<br />\nUnidad en la Comunidad es un festival callejero de verano que no te puedes perder\; gratuito y lleno de diversi&oacute\;n para toda la familia\, &iexcl\;lleno de sabor local! Con la participaci&oacute\;n de m&aacute\;s de 100 organizaciones locales\, es la fiesta m&aacute\;s grande de Longmont.<br />\n<br />\n&iexcl\;Ven a celebrar Longmont con nosotros en el centro este 22 de agosto y disfruta de comida\, bebidas\, juegos y m&uacute\;sica en vivo con The Spicy Pickles!
LOCATION:At the intersection of 4th and Kimbark in beautiful downtown Longmont
UID:e.3083.13582
SEQUENCE:3
DTSTAMP:20260421T080709Z
URL:https://members.longmontchamber.org/events/details/unity-in-the-community-13582
END:VEVENT

END:VCALENDAR
