BEGIN:VCALENDAR
VERSION:2.0
PRODID:-//ChamberMaster//Event Calendar 2.0//EN
METHOD:PUBLISH
X-PUBLISHED-TTL:P3D
REFRESH-INTERVAL:P3D
CALSCALE:GREGORIAN
BEGIN:VEVENT
DTSTART:20190823T220000Z
DTEND:20190824T030000Z
X-MICROSOFT-CDO-ALLDAYEVENT:FALSE
SUMMARY:Unity in the Community 2019
DESCRIPTION:Unity in the Community\, or simply Unity\, is the longest running of all Longmont Area Chamber of Commerce events. Now in its 16th year\, Unity is being refreshed as an outdoor festival on a beautiful summer evening. Kimbark Street in downtown Longmont will be lined with tables\, representing the heart of Northern Colorado's non-profit and business community.\n\nThis event is not exclusive to the Longmont Chamber- it is open to the entire community! Whether you are a business owner\, non-profit volunteer\, running for office\, or just visiting town\, all are welcome at Unity in the Community! Enjoy a family-friendly\, fun evening of games\, music\, refreshments\, debate\, and connection.
X-ALT-DESC;FMTTYPE=text/html:<p style="box-sizing: border-box\; margin: 0px\; padding: 0px 0px 1em\; border: 0px\; outline: 0px\; background-image: initial\; background-position: 0px 0px\; background-size: initial\; background-repeat: initial\; background-attachment: initial\; background-origin: initial\; background-clip: initial\; font-size: 15px\; vertical-align: baseline\; text-size-adjust: 100%\; line-height: 1.9em\; color: rgb(81\, 83\, 81)\; font-family: &quot\;Century Gothic Regular&quot\;\, Helvetica\, Arial\, Lucida\, sans-serif\;">Unity in the Community\, or simply Unity\, is the longest running of all Longmont Area Chamber of Commerce events. Now in its 16th year\, Unity is being refreshed as an outdoor festival on a beautiful summer evening. Kimbark Street in downtown Longmont will be lined with tables\, representing the heart of Northern Colorado&rsquo\;s non-profit and business community.</p>\n\n<p style="box-sizing: border-box\; margin: 0px\; padding: 0px\; border: 0px\; outline: 0px\; background-image: initial\; background-position: 0px 0px\; background-size: initial\; background-repeat: initial\; background-attachment: initial\; background-origin: initial\; background-clip: initial\; font-size: 15px\; vertical-align: baseline\; text-size-adjust: 100%\; line-height: 1.9em\; color: rgb(81\, 83\, 81)\; font-family: &quot\;Century Gothic Regular&quot\;\, Helvetica\, Arial\, Lucida\, sans-serif\;">This event is not exclusive to the Longmont Chamber- it is open to the entire community! Whether you are a business owner\, non-profit volunteer\, running for office\, or just visiting town\, all are welcome at Unity in the Community! Enjoy a family-friendly\, fun evening of games\, music\, refreshments\, debate\, and connection.</p>\n
LOCATION:Downtown Longmont\, Kimbark St Between 3rd and 5th Ave.
UID:e.3083.6888
SEQUENCE:3
DTSTAMP:20260426T041830Z
URL:https://members.longmontchamber.org/events/details/unity-in-the-community-2019-6888
END:VEVENT

END:VCALENDAR
