BEGIN:VCALENDAR
VERSION:2.0
PRODID:-//ChamberMaster//Event Calendar 2.0//EN
METHOD:PUBLISH
X-PUBLISHED-TTL:P3D
REFRESH-INTERVAL:P3D
CALSCALE:GREGORIAN
BEGIN:VEVENT
DTSTART:20250215T010000Z
DTEND:20250215T030000Z
X-MICROSOFT-CDO-ALLDAYEVENT:FALSE
SUMMARY:Valentine's Day Fondue Date Night
DESCRIPTION:Celebrate Valentine's Day at Kuper Wine Bar! \n\n\n\nStart the night with a premier bottle of wine [$50 value] before diving into our delicious cheese fondue with a full platter of dipping goodies. You will finish the evening with a dessert platter curated from various cheesecakes & Robin chocolates.\n\n\n\nCost: $125 for 2 people\n\n[Includes bottle of wine\, cheese fondue\, fondue platter\, and dessert platter for 2]\n\n\n\nThis will be a special night at Kuper to celebrate with your special someone!
X-ALT-DESC;FMTTYPE=text/html:<br />\n<strong>Celebrate Valentine&#39\;s Day at Kuper Wine Bar!&nbsp\;</strong><br />\n<br />\nStart the night with a premier bottle of wine [$50 value] before diving into our delicious cheese fondue with a full platter of dipping goodies. You will finish the evening with a dessert platter curated from various cheesecakes &amp\; Robin chocolates.<br />\n<br />\nCost: $125 for 2 people<br />\n[Includes bottle of wine\, cheese fondue\, fondue platter\, and dessert platter for 2]<br />\n<br />\nThis will be a special night at Kuper to celebrate with your special someone!
LOCATION:Kuper Wine Bar
UID:e.3083.10735
SEQUENCE:3
DTSTAMP:20260421T174901Z
URL:https://members.longmontchamber.org/events/details/valentine-s-day-fondue-date-night-10735
END:VEVENT

END:VCALENDAR
