BEGIN:VCALENDAR
VERSION:2.0
PRODID:-//ChamberMaster//Event Calendar 2.0//EN
METHOD:PUBLISH
X-PUBLISHED-TTL:P3D
REFRESH-INTERVAL:P3D
CALSCALE:GREGORIAN
BEGIN:VEVENT
DTSTART:20230215T020000Z
DTEND:20230215T050000Z
X-MICROSOFT-CDO-ALLDAYEVENT:FALSE
SUMMARY:Valentine's Day Jazz at The Times (with dinner & drinks)
DESCRIPTION:The Soundpost Sessions presents live jazz featuring vocalist Karyna Balch\, Charles Blenzig on piano\, and Seth Lewis on bass. Ticket includes seated dinner prepared by Rising Tiger (see menu below) and a beer or glass of wine\, with cocktails available for purchase. The Times Collaborative transforms into a jazz club and is proud to host full service bar. Singles and Couples Welcome! \n\nDoors open 6:30pm\, show at 7pm.\n\nReserve your seats at https://the-times-collaborative.square.site/product/valentine-s-jazz-and-dinner/123\n\nPrix Fixe Menu by Rising Tiger:\n\nAMUSE: Red Beet Carpaccio\n\nOlive oil & herb roasted red beets\, oranges\, fennel\, frisee\, pistachio\, celery seed vinaigrette \n\nFIRST:\n\nFrito misto\n\nArtichokes\, olives\, mushrooms\, cauliflower\, onions\, and winter squash lightly tempura fried. Served with Calabrian chili aioli\n\nMAIN (choice of)\n\nVegetarian risotto\, Mushrooms\, peas\, preserved lemon\, brown butter\n\n-or-\n\nScallops\, Potato & leek croquettes\, peas\, brussels sprouts\, carrots\, mushroom dashi\n\nFINAL\n\nTruffle Trio\n\nsesame\, white chocolate matcha\, mint cookie
X-ALT-DESC;FMTTYPE=text/html:<p><a href="https://soundpostsessions.com/">The Soundpost Sessions</a> presents live jazz featuring vocalist Karyna Balch\, Charles Blenzig on piano\, and Seth Lewis on bass. Ticket includes seated dinner prepared by <a href="http://www.risingtigerco.com">Rising Tiger</a> (see menu below) and a beer or glass of wine\, with cocktails available for purchase. <a href="http://www.thetimesco.com">The Times Collaborative</a>&nbsp\;transforms into a jazz club and is proud to host full service bar.&nbsp\;Singles and Couples Welcome!&nbsp\;</p>\n\n<p>Doors open 6:30pm\, show at 7pm.<br />\nReserve your seats at&nbsp\;<a href="https://the-times-collaborative.square.site/product/valentine-s-jazz-and-dinner/123" rel="noopener noreferrer noopener noreferrer" style="background: transparent\; border: 0px\; margin: 0px\; outline: 0px\; padding: 0px\; vertical-align: baseline\; cursor: pointer\; text-decoration-line: none\; color: rgb(91\, 47\, 44)\;" tabindex="-1" target="_blank">https://the-times-collaborative.square.site/product/valentine-s-jazz-and-dinner/123</a></p>\n\n<p><strong>Prix Fixe Menu by Rising Tiger:</strong></p>\n\n<p>AMUSE: Red Beet Carpaccio<br />\nOlive oil &amp\; herb roasted red beets\, oranges\, fennel\, frisee\, pistachio\, celery seed vinaigrette&nbsp\;</p>\n\n<p>FIRST:<br />\nFrito misto<br />\nArtichokes\, olives\, mushrooms\, cauliflower\, onions\, and winter squash lightly tempura fried. Served with Calabrian chili aioli</p>\n\n<p>MAIN (choice of)<br />\nVegetarian risotto\, Mushrooms\, peas\, preserved lemon\, brown butter<br />\n-or-<br />\nScallops\, Potato &amp\; leek croquettes\, peas\, brussels sprouts\, carrots\, mushroom dashi</p>\n\n<p>FINAL<br />\nTruffle Trio<br />\nsesame\, white chocolate matcha\, mint cookie</p>\n
LOCATION:338 Main St\, Longmont\, Co 80501
UID:e.3083.9426
SEQUENCE:3
DTSTAMP:20260423T100744Z
URL:https://members.longmontchamber.org/events/details/valentine-s-day-jazz-at-the-times-with-dinner-drinks-9426
END:VEVENT

END:VCALENDAR
