BEGIN:VCALENDAR
VERSION:2.0
PRODID:-//ChamberMaster//Event Calendar 2.0//EN
METHOD:PUBLISH
X-PUBLISHED-TTL:P3D
REFRESH-INTERVAL:P3D
CALSCALE:GREGORIAN
BEGIN:VEVENT
DTSTART:20230923T233000Z
DTEND:20230924T020000Z
X-MICROSOFT-CDO-ALLDAYEVENT:FALSE
SUMMARY:Veterans Community Project 3B Fundraiser
DESCRIPTION:Since 2020\, Veterans Community Project (VCP) of Longmont has served more than 350 at-risk and homeless Veterans across the Front Range. Our Outreach Center and Mobile Outreach team have supported veterans in everything from obtaining discharge paperwork to in-depth case management\, helping with challenges like food insecurity\, connection to mental and physical health services\, and securing permanent housing solutions. Armed with the support of the community\, we've already helped permanently house more than 60 Veterans in Colorado! And we're just getting started.\n\n\n\n\n\nThe construction of our VCP Village is nearing completion and will open in 2023! With 26 tiny homes and a Village Community Center\, the village will add the final piece to our wrap-around support network\, providing transitional housing with dignity and on-site case management for our Veterans in need this year. All of this work is only possible through the support and strength of our community. Thank you.\n\nWe're excited to welcome back 3B\, VCP's signature event\, this September! Last year\, over 200 community and civic leaders joined together to raise mission-critical funds and enjoy a beautiful Colorado evening. This year\, 3B is reimagined\; we are doing Oktoberfest in style! With a polka BAND\, BIER & BRATS\, 3B celebrates Veterans and the community that supports them in a way only VCP can.\n\nThis year\, VCP of Longmont has a fundraising goal of $50\,000. Sponsors like you are crucial in helping us reach our goal and further our mission. Four sponsorship levels are available\, with many opportunities to highlight your support of VCP's mission and the Veterans who served us. Please join us for this incredible event!!
X-ALT-DESC;FMTTYPE=text/html:<div>\n<div>\n<div>\n<p><span style="color:rgb(33\, 36\, 36)\; font-family:lato\; font-size:11pt">Since 2020\, Veterans Community Project (VCP) of Longmont has served more than 350 at-risk and homeless Veterans across the Front Range. Our Outreach Center and Mobile Outreach team have supported veterans in everything from obtaining discharge paperwork to in-depth case&nbsp\;</span><span style="color:rgb(33\, 36\, 36)\; font-family:lato\; font-size:11pt">management\, helping with challenges like food insecurity\, connection&nbsp\;</span><span style="color:rgb(33\, 36\, 36)\; font-family:lato\; font-size:11pt">to mental and physical health services\, and securing permanent housing&nbsp\;</span><span style="color:rgb(33\, 36\, 36)\; font-family:lato\; font-size:11pt">solutions. Armed with the support of the community\, we&rsquo\;ve already helped permanently house more than 60 Veterans in Colorado! And we&rsquo\;re just getting started.</span></p>\n</div>\n</div>\n\n<div>\n<div>\n<p><span style="color:rgb(33\, 36\, 36)\; font-family:lato\; font-size:11pt">The construction of our VCP Village is nearing completion and will open in 2023! With 26 tiny homes and a Village Community Center\, the village will add the final piece to our wrap-around support network\, providing transitional housing with dignity and on-site case management for our&nbsp\;</span><span style="color:rgb(33\, 36\, 36)\; font-family:lato\; font-size:11pt">Veterans in need this year. All of this work is only possible through the support and strength of our community. Thank you.</span></p>\n\n<p><span style="color:rgb(33\, 36\, 36)\; font-family:lato\; font-size:11pt">We&rsquo\;re excited to welcome back 3B\, VCP&rsquo\;s signature event\, this September!&nbsp\;</span><span style="color:rgb(33\, 36\, 36)\; font-family:lato\; font-size:11pt">Last year\, over 200 community and civic leaders joined together to raise&nbsp\;</span><span style="color:rgb(33\, 36\, 36)\; font-family:lato\; font-size:11pt">mission-critical funds and enjoy a beautiful Colorado evening. This year\, 3B is reimagined\; we are doing Oktoberfest in style! With a polka BAND\, BIER &amp\; BRATS\, 3B celebrates Veterans and the community that supports&nbsp\;</span><span style="color:rgb(33\, 36\, 36)\; font-family:lato\; font-size:11pt">them in a way only VCP can.</span></p>\n\n<p><span style="color:rgb(33\, 36\, 36)\; font-family:lato\; font-size:11pt">This year\, VCP of Longmont has a fundraising goal of $50\,000. Sponsors like you are crucial in helping us reach our goal and further our mission.&nbsp\;</span><span style="color:rgb(33\, 36\, 36)\; font-family:lato\; font-size:11pt">Four sponsorship levels are available\, with many opportunities to highlight your support of VCP&rsquo\;s mission and the Veterans who served us. Please&nbsp\;</span><span style="color:rgb(33\, 36\, 36)\; font-family:lato\; font-size:11pt">join us for this incredible event!!</span></p>\n</div>\n</div>\n</div>\n
LOCATION:Our 3rd annual event is hosted at a private donor home. The address will be shared when tickets are purchased.
UID:e.3083.9946
SEQUENCE:3
DTSTAMP:20260422T214836Z
URL:https://members.longmontchamber.org/events/details/veterans-community-project-3b-fundraiser-9946
END:VEVENT

END:VCALENDAR
