BEGIN:VCALENDAR
VERSION:2.0
PRODID:-//ChamberMaster//Event Calendar 2.0//EN
METHOD:PUBLISH
X-PUBLISHED-TTL:P3D
REFRESH-INTERVAL:P3D
CALSCALE:GREGORIAN
BEGIN:VEVENT
DTSTART:20250920T233000Z
DTEND:20250921T040000Z
X-MICROSOFT-CDO-ALLDAYEVENT:FALSE
SUMMARY:Veterans Community Project House Party 2025
DESCRIPTION:House Party 2025\n\n\n\nPresented by Veterans Community Project of Longmont\n\n\n\nEvent Details\n\nJoin Veterans Community Project of Longmont for our signature annual fundraiser\, House Party 2025! This unforgettable evening brings our community together in support of Veterans\, featuring:\n\n\n	\n	Special guest speaker\n	\n	\n	VIP Cocktail Hour with curated catering\n	\n	\n	A professional live auctioneer to energize the crowd\n	\n	\n	An inspiring story from one of our Veteran alumni\n	\n	\n	And a $25\,000 matching paddle raise   doubling every gift made that night\n	\n\n\nThis year is especially meaningful as we celebrate the completion of the Longmont Village build. Veterans are moving in\, building community\, and thriving thanks to your support.\n\nHouse Party isn't just an event   it's a chance for our community to come together\, honor those who served\, and invest in their future.\n\n\n \n\nAbout Veterans Community Project\n\nVeterans Community Project (VCP) is dedicated to ending Veteran homelessness. We provide transitional housing in our Village of tiny homes along with comprehensive support services that empower Veterans to build stability and thrive.
X-ALT-DESC;FMTTYPE=text/html:<h3><span style="font-size:18px\;"><strong>House Party 2025</strong></span><br />\n<br />\n<span style="font-size:18px\;"><strong>Presented by Veterans Community Project of Longmont</strong></span><br />\n<br />\n<span style="font-size:18px\;"><strong>Event Details</strong></span></h3>\n\n<p><span style="font-size:18px\;">Join Veterans Community Project of Longmont for our signature annual fundraiser\, <strong>House Party 2025</strong>! This unforgettable evening brings our community together in support of Veterans\, featuring:</span></p>\n\n<ul>\n	<li>\n	<p><span style="font-size:18px\;"><strong>Special guest speaker</strong></span></p>\n	</li>\n	<li>\n	<p><span style="font-size:18px\;"><strong>VIP Cocktail Hour</strong> with curated catering</span></p>\n	</li>\n	<li>\n	<p><span style="font-size:18px\;">A professional <strong>live auctioneer</strong> to energize the crowd</span></p>\n	</li>\n	<li>\n	<p><span style="font-size:18px\;">An inspiring story from one of our Veteran alumni</span></p>\n	</li>\n	<li>\n	<p><span style="font-size:18px\;">And a <strong>$25\,000 matching paddle raise</strong> &mdash\; doubling every gift made that night</span></p>\n	</li>\n</ul>\n\n<p><span style="font-size:18px\;">This year is especially meaningful as we celebrate the <strong>completion of the Longmont Village build</strong>. Veterans are moving in\, building community\, and thriving thanks to your support.</span></p>\n\n<p><span style="font-size:18px\;">House Party isn&rsquo\;t just an event &mdash\; it&rsquo\;s a chance for our community to come together\, honor those who served\, and invest in their future.</span></p>\n\n<hr />\n<h3>&nbsp\;</h3>\n\n<h3><span style="font-size:16px\;"><strong>About Veterans Community Project</strong></span></h3>\n\n<p><span style="font-size:16px\;">Veterans Community Project (VCP) is dedicated to ending Veteran homelessness. We provide transitional housing in our Village of tiny homes along with comprehensive support services that empower Veterans to build stability and thrive.</span></p>\n
LOCATION:The Garden at Left Hand Brewing
UID:e.3083.14223
SEQUENCE:3
DTSTAMP:20260421T064058Z
URL:https://members.longmontchamber.org/events/details/veterans-community-project-house-party-2025-14223
END:VEVENT

END:VCALENDAR
