BEGIN:VCALENDAR
VERSION:2.0
PRODID:-//ChamberMaster//Event Calendar 2.0//EN
METHOD:PUBLISH
X-PUBLISHED-TTL:P3D
REFRESH-INTERVAL:P3D
CALSCALE:GREGORIAN
BEGIN:VEVENT
DTSTART:20241112T000000Z
DTEND:20241112T031500Z
X-MICROSOFT-CDO-ALLDAYEVENT:FALSE
SUMMARY:Veterans Day Celebration and Dinner
DESCRIPTION:LONGMONT                                           LONGS PEAK VFW POST 2601\n\n			AMERICAN LEGION POST 32\n\n			Invites Our Veterans and Their Guests\n\n			 \n		\n		\n			FREE VETERANS DAY 2024 CELEBRATION WITH AN EVENING OF DINNER/MUSIC/COMRADESHIP\n		\n		\n			11 November 2024   5pm   8:15pm\n		\n		\n			American Legion Post 32\n\n			315 S. Bowen St.\n\n			Longmont\, Co 80501\n		\n		\n			 \n\n			 \n\n			Join your Longmont Veteran Fellowships in celebrating our Veterans and their Guests!
X-ALT-DESC;FMTTYPE=text/html:<table border="0" cellpadding="0" cellspacing="0" style="border-collapse:collapse">\n	<tbody>\n		<tr>\n			<td style="height:58px\; vertical-align:top\; width:719px"><br />\n			<span style="color:red"><span style="font-size:24pt">LONGMONT&nbsp\;&nbsp\;&nbsp\;&nbsp\;&nbsp\;&nbsp\;&nbsp\;&nbsp\;&nbsp\;&nbsp\;&nbsp\;&nbsp\;&nbsp\;&nbsp\;&nbsp\;&nbsp\;&nbsp\;&nbsp\;&nbsp\;&nbsp\;&nbsp\;&nbsp\;&nbsp\;&nbsp\;&nbsp\;&nbsp\;&nbsp\;&nbsp\;&nbsp\;&nbsp\;&nbsp\;&nbsp\;&nbsp\;&nbsp\;&nbsp\;&nbsp\;&nbsp\;&nbsp\;&nbsp\;&nbsp\;&nbsp\;&nbsp\; LONGS PEAK VFW POST 2601</span></span><br />\n			<strong><span style="color:red"><span style="font-size:24pt">AMERICAN LEGION POST 32</span></span></strong><br />\n			<strong><span style="color:red"><span style="font-size:24pt">Invites Our Veterans and Their Guests</span></span></strong><br />\n			&nbsp\;</td>\n		</tr>\n		<tr>\n			<td style="vertical-align:top\; width:719px"><span style="font-size:26pt">FREE VETERANS DAY 2024 CELEBRATION WITH AN EVENING OF DINNER/MUSIC/COMRADESHIP</span></td>\n		</tr>\n		<tr>\n			<td style="height:77px\; vertical-align:bottom\; width:719px">11 November 2024 &bull\; 5pm &ndash\; 8:15pm</td>\n		</tr>\n		<tr>\n			<td style="vertical-align:top\; width:719px">American Legion Post 32<br />\n			315 S. Bowen St.<br />\n			Longmont\, Co 80501</td>\n		</tr>\n		<tr>\n			<td style="height:134px\; vertical-align:bottom\; width:719px">&nbsp\;<br />\n			&nbsp\;<br />\n			<span style="color:red">Join your Longmont Veteran Fellowships in celebrating our Veterans and their Guests!</span></td>\n		</tr>\n	</tbody>\n</table>\n
LOCATION:American Legion Post 32 315 S. Bowen St. Longmont\, Co 80501
UID:e.3083.10260
SEQUENCE:3
DTSTAMP:20260421T235435Z
URL:https://members.longmontchamber.org/events/details/veterans-day-celebration-and-dinner-10260
END:VEVENT

END:VCALENDAR
