BEGIN:VCALENDAR
VERSION:2.0
PRODID:-//ChamberMaster//Event Calendar 2.0//EN
METHOD:PUBLISH
X-PUBLISHED-TTL:P3D
REFRESH-INTERVAL:P3D
CALSCALE:GREGORIAN
BEGIN:VEVENT
DTSTART:20241017T150000Z
DTEND:20241017T200000Z
X-MICROSOFT-CDO-ALLDAYEVENT:FALSE
SUMMARY:Veterans Stand Down & Resource Fair
DESCRIPTION:The Veterans Stand Down & Resource Fair will be held on Thursday\, Oct. 17 from 9 a.m. to 2 p.m. at American Legion Post 32 (315 South Bowen St.\, Longmont). Services and resources include: VA benefits\, basic medical services\, housing and employment resources\, cold weather gear\, haircuts and hygiene items\, disability resources\, and legal assistance.
X-ALT-DESC;FMTTYPE=text/html:<span style="color:rgb(85\, 85\, 85)\; font-family:lato\,arial\,helvetica\,sans-serif\; font-size:15px">The Veterans Stand Down &amp\; Resource Fair will be held on Thursday\, Oct. 17 from 9 a.m. to 2 p.m. at American Legion Post 32 (315 South Bowen St.\, Longmont). Services and resources include: VA benefits\, basic medical services\, housing and employment resources\, cold weather gear\, haircuts and hygiene items\, disability resources\, and legal assistance.</span>
LOCATION:
UID:e.3083.10236
SEQUENCE:3
DTSTAMP:20260421T235317Z
URL:https://members.longmontchamber.org/events/details/veterans-stand-down-resource-fair-10236
END:VEVENT

END:VCALENDAR
