BEGIN:VCALENDAR
VERSION:2.0
PRODID:-//ChamberMaster//Event Calendar 2.0//EN
METHOD:PUBLISH
X-PUBLISHED-TTL:P3D
REFRESH-INTERVAL:P3D
CALSCALE:GREGORIAN
BEGIN:VEVENT
DTSTART:20250209T200000Z
DTEND:20250209T230000Z
X-MICROSOFT-CDO-ALLDAYEVENT:FALSE
SUMMARY:Victorian Valentine's Day Tea & Crafting
DESCRIPTION:Victorian Valentine's Day Tea and Crafting\n\nSunday February 9\, 2024\, from 1:00pm   4:00pm\n\nRegistration opens December 3\, 2025. Register HERE\n\nEnjoy afternoon tea at Callahan House\, then head upstairs to explore the history and art of collage valentine making as the Victorian's did! Victorian\, teatime\, or Valentine's Day dress is encouraged!\n\nThis event is for ages 10 and up.\n\nRegistration is $30 per person and can be purchased as half tables ($60) for up to 2 people\, or full tables ($120) for up to 4 people. Seating is reserved and all tables seat up to 4 people. Please note if purchasing the half table option\, you will be seated with another party.\n\nTea begins promptly at 1:00 with valentine making to follow. Once you head upstairs for valentine making\, your tea table will be cleared. Please let us know if you cannot go upstairs and we need to make other accommodations for you. Doors will not be open prior to 1:00pm. The event will end promptly at 4:00.\n\n\n\nWith questions\, please email callahan@longmontcolorado.gov or call (303) 776-5191.
X-ALT-DESC;FMTTYPE=text/html:<div>\n<div>\n<div>\n<div>\n<div>\n<div style="margin-left:auto\; margin-right:auto">\n<div>\n<div>\n<div>\n<div>\n<div>\n<div>\n<h2>Victorian Valentine&rsquo\;s Day Tea and Crafting</h2>\n\n<h3>Sunday February 9\, 2024\, from 1:00pm &ndash\; 4:00pm</h3>\n\n<p><span style="color:rgb(194\, 81\, 46)">Registration opens December 3\, 2025. Register&nbsp\;<a href="https://rec.ci.longmont.co.us/wbwsc/webtrac.wsc/search.html?Action=Start&amp\;SubAction=&amp\;_csrf_token=eF0O1H0X1G032J422V353X3R5M4V5B551E6U4O5B4S03725R6368014U4I5C6G01704J5J6J6X005Y504N195H566G521F6Y4O5159046R4O6M686X5E5T4N6C0B6Z4N57&amp\;keyword=104100&amp\;display=Detail&amp\;module=Global&amp\;multiselectlist_value=&amp\;globalwebsearch_buttonsearch=yes" style="box-sizing: border-box\; border-width: 0px\; border-style: solid\; border-color: rgb(229\, 231\, 235)\; --tw-border-spacing-x: 0\; --tw-border-spacing-y: 0\; --tw-translate-x: 0\; --tw-translate-y: 0\; --tw-rotate: 0\; --tw-skew-x: 0\; --tw-skew-y: 0\; --tw-scale-x: 1\; --tw-scale-y: 1\; --tw-pan-x: \; --tw-pan-y: \; --tw-pinch-zoom: \; --tw-scroll-snap-strictness: proximity\; --tw-gradient-from-position: \; --tw-gradient-via-position: \; --tw-gradient-to-position: \; --tw-ordinal: \; --tw-slashed-zero: \; --tw-numeric-figure: \; --tw-numeric-spacing: \; --tw-numeric-fraction: \; --tw-ring-inset: \; --tw-ring-offset-width: 0px\; --tw-ring-offset-color: #fff\; --tw-ring-color: rgb(59 130 246 / .5)\; --tw-ring-offset-shadow: 0 0 #0000\; --tw-ring-shadow: 0 0 #0000\; --tw-shadow: 0 0 #0000\; --tw-shadow-colored: 0 0 #0000\; --tw-blur: \; --tw-brightness: \; --tw-contrast: \; --tw-grayscale: \; --tw-hue-rotate: \; --tw-invert: \; --tw-saturate: \; --tw-sepia: \; --tw-drop-shadow: \; --tw-backdrop-blur: \; --tw-backdrop-brightness: \; --tw-backdrop-contrast: \; --tw-backdrop-grayscale: \; --tw-backdrop-hue-rotate: \; --tw-backdrop-invert: \; --tw-backdrop-opacity: \; --tw-backdrop-saturate: \; --tw-backdrop-sepia: \; --tw-contain-size: \; --tw-contain-layout: \; --tw-contain-paint: \; --tw-contain-style: \; color: rgb(194\, 81\, 46)\; text-decoration-thickness: inherit\; text-decoration-style: inherit\; text-decoration-color: inherit\; --tw-text-opacity: 1\; transition-property: color\, background-color\, border-color\, text-decoration-color\, fill\, stroke\; transition-timing-function: cubic-bezier(0.4\, 0\, 0.2\, 1)\; transition-duration: 0.15s\;">HERE</a></span></p>\n\n<p>Enjoy afternoon tea at Callahan House\, then head upstairs to explore the history and art of collage valentine making as the Victorian&rsquo\;s did! Victorian\, teatime\, or Valentine&rsquo\;s Day dress is encouraged!</p>\n\n<p>This event is for ages 10 and up.</p>\n\n<p>Registration is $30 per person and can be purchased as half tables ($60) for up to 2 people\, or full tables ($120) for up to 4 people. Seating is reserved and all tables seat up to 4 people. Please note if purchasing the half table option\, you will be seated with another party.</p>\n\n<p>Tea begins promptly at 1:00 with valentine making to follow. Once you head upstairs for valentine making\, your tea table will be cleared. Please let us know if you cannot go upstairs and we need to make other accommodations for you. Doors will not be open prior to 1:00pm. The event will end promptly at 4:00.<br />\n<br />\nWith questions\, please email&nbsp\;<a href="mailto:callahan@longmontcolorado.gov" style="box-sizing: border-box\; border-width: 0px\; border-style: solid\; border-color: rgb(229\, 231\, 235)\; --tw-border-spacing-x: 0\; --tw-border-spacing-y: 0\; --tw-translate-x: 0\; --tw-translate-y: 0\; --tw-rotate: 0\; --tw-skew-x: 0\; --tw-skew-y: 0\; --tw-scale-x: 1\; --tw-scale-y: 1\; --tw-pan-x: \; --tw-pan-y: \; --tw-pinch-zoom: \; --tw-scroll-snap-strictness: proximity\; --tw-gradient-from-position: \; --tw-gradient-via-position: \; --tw-gradient-to-position: \; --tw-ordinal: \; --tw-slashed-zero: \; --tw-numeric-figure: \; --tw-numeric-spacing: \; --tw-numeric-fraction: \; --tw-ring-inset: \; --tw-ring-offset-width: 0px\; --tw-ring-offset-color: #fff\; --tw-ring-color: rgb(59 130 246 / .5)\; --tw-ring-offset-shadow: 0 0 #0000\; --tw-ring-shadow: 0 0 #0000\; --tw-shadow: 0 0 #0000\; --tw-shadow-colored: 0 0 #0000\; --tw-blur: \; --tw-brightness: \; --tw-contrast: \; --tw-grayscale: \; --tw-hue-rotate: \; --tw-invert: \; --tw-saturate: \; --tw-sepia: \; --tw-drop-shadow: \; --tw-backdrop-blur: \; --tw-backdrop-brightness: \; --tw-backdrop-contrast: \; --tw-backdrop-grayscale: \; --tw-backdrop-hue-rotate: \; --tw-backdrop-invert: \; --tw-backdrop-opacity: \; --tw-backdrop-saturate: \; --tw-backdrop-sepia: \; --tw-contain-size: \; --tw-contain-layout: \; --tw-contain-paint: \; --tw-contain-style: \; color: rgb(73 107 157 / var(--tw-text-opacity))\; text-decoration-thickness: inherit\; text-decoration-style: inherit\; text-decoration-color: inherit\; --tw-text-opacity: 1\; transition-property: color\, background-color\, border-color\, text-decoration-color\, fill\, stroke\; transition-timing-function: cubic-bezier(0.4\, 0\, 0.2\, 1)\; transition-duration: 0.15s\;">callahan@longmontcolorado.gov</a>&nbsp\;or call (303) 776-5191.</p>\n</div>\n</div>\n</div>\n</div>\n</div>\n</div>\n</div>\n</div>\n</div>\n</div>\n</div>\n</div>\n
LOCATION:Callahan House
UID:e.3083.10502
SEQUENCE:3
DTSTAMP:20260421T173812Z
URL:https://members.longmontchamber.org/events/details/victorian-valentine-s-day-tea-crafting-10502
END:VEVENT

END:VCALENDAR
