BEGIN:VCALENDAR
VERSION:2.0
PRODID:-//ChamberMaster//Event Calendar 2.0//EN
METHOD:PUBLISH
X-PUBLISHED-TTL:P3D
REFRESH-INTERVAL:P3D
CALSCALE:GREGORIAN
BEGIN:VEVENT
DTSTART:20250213T000000Z
DTEND:20250213T020000Z
X-MICROSOFT-CDO-ALLDAYEVENT:FALSE
SUMMARY:Voices for Children Valentine's Open House
DESCRIPTION:Voices for Children\, CASA of Boulder County will be hosting a Valentine's Day Open House hosted at ARHAUS on February 12th.  Please join us for an evening of connecting and learning more about our impact on Boulder County.\n\n\n\nVoices for Children\, CASA of Boulder County (VFC) has been serving the community since 1985\, providing Court Appointed Special Advocate (CASA) volunteers to youth who have experienced abuse and neglect. Our mission is to build a healthier community by delivering services\, support\, and advocacy to children who have experienced trauma.\n\n\n\nIn the last year we have served 259 children in 159 total cases who have experienced abuse and neglect with the support of 151 CASA volunteers. All volunteers were trained and continue to be supported by the staff of Voices for Children\, CASA of Boulder County.\n\n\n\nBeverages and hors d'oeuvres will be provided.\n\n\n\nLocation: ARHAUS Showroom | 1711 29th Street\, Ste 1180\, Boulder\, CO 80301\n\nTime: 5:00 - 7:00 p.m. with a short information session at 6:00 p.m.\n\n\n\nRegister here: https://vfcc93.app.neoncrm.com/np/clients/vfcc93/eventRegistration.jsp?event=78&
X-ALT-DESC;FMTTYPE=text/html:<br />\n<span style="background-color:rgb(250\, 250\, 250)\; color:rgb(0\, 0\, 0)\; font-family:arial\,helvetica">Voices for Children\, CASA of Boulder County will be hosting a Valentine&#39\;s Day Open House hosted at ARHAUS on February 12th.&nbsp\; Please join us for an evening of connecting and learning more about our impact on Boulder County.</span><br />\n<br />\n<span style="background-color:rgb(250\, 250\, 250)\; color:rgb(0\, 0\, 0)\; font-family:arial\,helvetica">Voices for Children\, CASA of Boulder County (VFC) has been serving the community since 1985\, providing Court Appointed Special Advocate (CASA) volunteers to youth who have experienced abuse and neglect. Our mission is to build a healthier community by delivering services\, support\, and advocacy to children who have experienced trauma.</span><br />\n<br />\n<span style="background-color:rgb(250\, 250\, 250)\; color:rgb(0\, 0\, 0)\; font-family:arial\,helvetica">In the last year we have served 259 children in 159 total cases who have experienced abuse and neglect with the support of 151 CASA volunteers. All volunteers were trained and continue to be supported by the staff of Voices for Children\, CASA of Boulder County.</span><br />\n<br />\n<span style="background-color:rgb(250\, 250\, 250)\; color:rgb(0\, 0\, 0)\; font-family:arial\,helvetica">Beverages and hors d&#39\;oeuvres will be provided.</span><br />\n<br />\n<span style="background-color:rgb(250\, 250\, 250)\; color:rgb(0\, 0\, 0)\; font-family:arial\,helvetica">Location: ARHAUS Showroom | 1711 29th Street\, Ste 1180\, Boulder\, CO 80301</span><br />\n<span style="background-color:rgb(250\, 250\, 250)\; color:rgb(0\, 0\, 0)\; font-family:arial\,helvetica">Time: 5:00 - 7:00 p.m. with a short information session at 6:00 p.m.<br />\n<br />\nRegister here:&nbsp\;</span><a href="https://vfcc93.app.neoncrm.com/np/clients/vfcc93/eventRegistration.jsp?event=78&amp\;">https://vfcc93.app.neoncrm.com/np/clients/vfcc93/eventRegistration.jsp?event=78&amp\;</a>
LOCATION:ARHAUS Showroom
UID:e.3083.10769
SEQUENCE:3
DTSTAMP:20260421T175030Z
URL:https://members.longmontchamber.org/events/details/voices-for-children-valentine-s-open-house-10769
END:VEVENT

END:VCALENDAR
