BEGIN:VCALENDAR
VERSION:2.0
PRODID:-//ChamberMaster//Event Calendar 2.0//EN
METHOD:PUBLISH
X-PUBLISHED-TTL:P3D
REFRESH-INTERVAL:P3D
CALSCALE:GREGORIAN
BEGIN:VEVENT
DTSTART:20210610T220000Z
DTEND:20210610T230000Z
X-MICROSOFT-CDO-ALLDAYEVENT:FALSE
SUMMARY:What Colorado's Employee Traffic Reduction Program (ETRP) Means for Your Business
DESCRIPTION:Does your business employ more than 100 people at a worksite in Boulder or Broomfield Counties? The Northwest Chamber Alliance is seeking your input to help shape the State of Colorado's Employee Traffic Reduction Program (ETRP).\n\nJoin this virtual policy roundtable to learn more about the potential regulation and share your feedback.\n\n\n\nThe Boulder Chamber is managing registration for this event. To register for this Northwest Chamber Alliance event\, click here. \n\n\n\nQuestions? Contact Planning and TDM Projects Manager Joan Lyons at joan.lyons@boulderchamber.com.
X-ALT-DESC;FMTTYPE=text/html:<p>Does your business employ more than 100 people at a worksite in Boulder or Broomfield Counties? The Northwest Chamber Alliance is seeking your input to help shape the State of Colorado&#39\;s&nbsp\;<strong>Employee Traffic Reduction Program (ETRP)</strong>.</p>\n\n<p>Join this virtual policy roundtable to learn more about the potential regulation and share your feedback.<br />\n<br />\nThe Boulder Chamber is managing registration for this event. <a href="https://business.boulderchamber.com/events/details/what-colorado-s-employee-traffic-reduction-program-etrp-means-for-your-business-23965">To register for&nbsp\;this Northwest Chamber Alliance event\, click here</a>.&nbsp\;<br />\n<br />\nQuestions? Contact Planning and TDM Projects Manager Joan Lyons at&nbsp\;<a href="mailto:joan.lyons@boulderchamber.com">joan.lyons@boulderchamber.com</a>.</p>\n
LOCATION:Zoom\, register to receive details
UID:e.3083.8457
SEQUENCE:3
DTSTAMP:20260424T155900Z
URL:https://members.longmontchamber.org/events/details/what-colorado-s-employee-traffic-reduction-program-etrp-means-for-your-business-8457
END:VEVENT

END:VCALENDAR
