BEGIN:VCALENDAR
VERSION:2.0
PRODID:-//ChamberMaster//Event Calendar 2.0//EN
METHOD:PUBLISH
X-PUBLISHED-TTL:P3D
REFRESH-INTERVAL:P3D
CALSCALE:GREGORIAN
BEGIN:VEVENT
DTSTART:20240928T220000Z
DTEND:20240929T020000Z
X-MICROSOFT-CDO-ALLDAYEVENT:FALSE
SUMMARY:Wheatstock Grain & Music Festival
DESCRIPTION:Dry Land Distillers is a proud founding member of The Colorado Grain Chain\, and both invite you to the 2nd annual Wheatstock Grain & Music Festival\, happening on Saturday\, September 28th\, from 4-8pm at Spirit Hound Distillers\, in Lyons\, Colorado.\n\nThis coming together is a celebration of community and grains\, and is inspired by our late friend and dear community member\, Andy Clark\, who co-founded the Colorado Grain Chain.\n\nThere will be live music (Trace Bundy\, Lucy Moore\, and many more!)\, local pizza by Moxie Bread\, a special limited release of Barrel Fire Whiskey Legacy Edition 2.0\, crafted with love by Dry Land Distillers and Spirit Hound Distillers in honor of Andy\, plus all of your friends!\n\nThere is limited capacity\, so get your tickets\, before they sell out\, and feel free to use promo code: COMMUNITY24.\n\nTickets include one drink ticket by Spirit Hound\, pizza bites by Moxie Bread\, a shot of Barrel Fire Whiskey Legacy Edition 2.0 (full bottle purchases will also be available while they last\, as well as a chance to win one!)\, and a saturation of music!\n\nFeel free to bring your own instrument and talent if you're feeling it\, there will be an open jam from 7-8pm!\n\nWe look forward to raising a glass with you!\n\nYou are also invited to kick off the day with a regenerative farm tour\, featuring Colorado grains from field to facility! Explore Seed to Still for more details and to purchase tickets for the tour!
X-ALT-DESC;FMTTYPE=text/html:<p>Dry Land Distillers is a proud founding member of&nbsp\;<a href="https://www.coloradograinchain.com/" style="box-sizing: border-box\; color: rgb(0\, 123\, 255)\; text-decoration-line: none\; background-color: transparent\; appearance: none\; display: inline\; padding: 0px\; border: none\; font-size: inherit\; cursor: pointer\; touch-action: manipulation\;">The Colorado Grain Chain</a>\, and both invite you to the 2nd annual&nbsp\;<a href="https://www.coloradograinchain.com/event_listings/cbb19ac9-99f8-4dfb-9650-e63fa8865770" style="box-sizing: border-box\; color: rgb(0\, 123\, 255)\; text-decoration-line: none\; background-color: transparent\; appearance: none\; display: inline\; padding: 0px\; border: none\; font-size: inherit\; cursor: pointer\; touch-action: manipulation\;">Wheatstock Grain &amp\; Music Festival</a>\, happening on Saturday\, September 28th\, from 4-8pm at&nbsp\;<a href="https://www.spirithounds.com/" style="box-sizing: border-box\; color: rgb(0\, 123\, 255)\; text-decoration-line: none\; background-color: transparent\; appearance: none\; display: inline\; padding: 0px\; border: none\; font-size: inherit\; cursor: pointer\; touch-action: manipulation\;">Spirit Hound Distillers</a>\, in Lyons\, Colorado.</p>\n\n<p>This coming together is a celebration of community and grains\, and is inspired by our late friend and dear community member\, Andy Clark\, who co-founded the Colorado Grain Chain.</p>\n\n<p>There will be live music (<a href="https://tracebundy.com/" style="box-sizing: border-box\; color: rgb(0\, 123\, 255)\; text-decoration-line: none\; background-color: transparent\; appearance: none\; display: inline\; padding: 0px\; border: none\; font-size: inherit\; cursor: pointer\; touch-action: manipulation\;">Trace Bundy</a>\,&nbsp\;<a href="https://www.instagram.com/lucygalenmoore/" style="box-sizing: border-box\; color: rgb(0\, 123\, 255)\; text-decoration-line: none\; background-color: transparent\; appearance: none\; display: inline\; padding: 0px\; border: none\; font-size: inherit\; cursor: pointer\; touch-action: manipulation\;">Lucy Moore</a>\, and many more!)\, local pizza by&nbsp\;<a href="https://www.moxiebreadco.com/" style="box-sizing: border-box\; color: rgb(0\, 123\, 255)\; text-decoration-line: none\; background-color: transparent\; appearance: none\; display: inline\; padding: 0px\; border: none\; font-size: inherit\; cursor: pointer\; touch-action: manipulation\;">Moxie Bread</a>\, a special limited release of Barrel Fire Whiskey Legacy Edition 2.0\, crafted with love by Dry Land Distillers and Spirit Hound Distillers in honor of Andy\, plus all of your friends!</p>\n\n<p>There is limited capacity\, so&nbsp\;<a href="https://events.humanitix.com/wheatstock-grain-festival-cgc" style="box-sizing: border-box\; color: rgb(0\, 123\, 255)\; text-decoration-line: none\; background-color: transparent\; appearance: none\; display: inline\; padding: 0px\; border: none\; font-size: inherit\; cursor: pointer\; touch-action: manipulation\;">get your tickets</a>\, before they sell out\, and feel free to use promo code: COMMUNITY24.</p>\n\n<p>Tickets include one drink ticket by Spirit Hound\, pizza bites by Moxie Bread\, a shot of Barrel Fire Whiskey Legacy Edition 2.0 (full bottle purchases will also be available while they last\, as well as a chance to win one!)\, and a saturation of music!</p>\n\n<p>Feel free to bring your own instrument and talent if you&#39\;re feeling it\, there will be an open jam from 7-8pm!</p>\n\n<p>We look forward to raising a glass with you!</p>\n\n<p>You are also invited to kick off the day with a regenerative farm tour\, featuring Colorado grains from field to facility! Explore&nbsp\;<a href="https://events.humanitix.com/seed-to-still-tour-cgc-afca?_gl=1*aeshal*_gcl_au*ODA0NDE1MTU5LjE3MjI4ODU3OTQ.*_ga*MTgzNzcwMDU1MC4xNzIyODg1Nzk1*_ga_LHKW5FR9N6*MTcyNjY2MTE4Mi42Ni4xLjE3MjY2NjIzNTEuNjAuMC4w" style="box-sizing: border-box\; color: rgb(0\, 123\, 255)\; text-decoration-line: none\; background-color: transparent\; appearance: none\; display: inline\; padding: 0px\; border: none\; font-size: inherit\; cursor: pointer\; touch-action: manipulation\;">Seed to Still</a>&nbsp\;for more details and to purchase tickets for the tour!</p>\n
LOCATION:Spirit Hound Distillers 4196 Ute Hwy\, Lyons\, CO 805040
UID:e.3083.10235
SEQUENCE:3
DTSTAMP:20260422T013944Z
URL:https://members.longmontchamber.org/events/details/wheatstock-grain-music-festival-10235
END:VEVENT

END:VCALENDAR
