BEGIN:VCALENDAR
VERSION:2.0
PRODID:-//ChamberMaster//Event Calendar 2.0//EN
METHOD:PUBLISH
X-PUBLISHED-TTL:P3D
REFRESH-INTERVAL:P3D
CALSCALE:GREGORIAN
BEGIN:VEVENT
DTSTART:20251004T180000Z
DTEND:20251004T220000Z
X-MICROSOFT-CDO-ALLDAYEVENT:FALSE
SUMMARY:Wild Plum's 2nd Annual Cornhole Tournament
DESCRIPTION:Join us for our 2nd Annual Cornhole Tournament at Left Hand Brewing Beer Garden!\n\n\n\nThe event is free to attend and we will have food trucks\, raffles\, door prizes\, and a silent auction!\n\n\n\nIf you want to compete in the tournament\, it will be $80 per team.  Prizes go to the winners!\n\n \nOur Story\n\nFor nearly 60 years\, Wild Plum Center for Young Children & Families has been providing early childhood education to low-income families and pregnant women in Longmont.\n\n \n\nWild Plum serves 250 children each year\, preparing both students and their parents for a successful transition into kindergarten!\n\n\n\nYour support will directly impact the futures of our families\, providing the foundation for academic success and helping to break the cycle of poverty in your community.
X-ALT-DESC;FMTTYPE=text/html:<br />\n<span style="font-size:22px\;">Join us for our 2nd Annual Cornhole Tournament at Left Hand Brewing Beer Garden!<br />\n<br />\nThe event is free to attend and we will have food trucks\, raffles\, door prizes\, and a silent auction!<br />\n<br />\nIf you want to compete in the tournament\, it will be $80 per team.&nbsp\; Prizes go to the winners!</span><br />\n&nbsp\;\n<p style="font-size: 16px\; color: rgb(0\, 0\, 0)\; font-family: Matter\, sans-serif\; font-variant-ligatures: no-contextual\;"><strong>Our Story</strong><br />\nFor nearly 60 years\,&nbsp\;<strong>Wild Plum Center for Young Children &amp\; Families&nbsp\;</strong>has been providing early childhood education to low-income families and pregnant women in Longmont.<br />\n&nbsp\;<br />\nWild Plum serves 250 children each year\, preparing both students and their parents for a successful transition into kindergarten!<br />\n<br />\nYour support will directly impact the futures of our families\, providing the foundation for academic success and helping to break the cycle of poverty in your community.&nbsp\;</p>\n
LOCATION:Left Hand Brewing Beer Garden
UID:e.3083.13502
SEQUENCE:3
DTSTAMP:20260421T052159Z
URL:https://members.longmontchamber.org/events/details/wild-plum-s-2nd-annual-cornhole-tournament-13502
END:VEVENT

END:VCALENDAR
