BEGIN:VCALENDAR
VERSION:2.0
PRODID:-//ChamberMaster//Event Calendar 2.0//EN
METHOD:PUBLISH
X-PUBLISHED-TTL:P3D
REFRESH-INTERVAL:P3D
CALSCALE:GREGORIAN
BEGIN:VEVENT
DTSTART:20231209T210000Z
DTEND:20231210T020000Z
X-MICROSOFT-CDO-ALLDAYEVENT:FALSE
SUMMARY:Winter Market at TinkerMill
DESCRIPTION:Our Winter Market & Open House is next Saturday! Our members will be in our various shops selling their creations with tours and demonstrations throughout the event. Purchase a handmade gift for a loved one and check out the coolest place in Longmont!\n\nInvite your friends\, bring your family\, support local and TinkerMill!
X-ALT-DESC;FMTTYPE=text/html:Our Winter Market &amp\; Open House is next Saturday! Our members will be in our various shops selling their creations with tours and demonstrations throughout the event. Purchase a handmade gift for a loved one and check out the coolest place in Longmont!<br />\n<strong><em>Invite your friends\, bring your family\, support local and TinkerMill!&nbsp\;</em></strong>
LOCATION:TinkerMill 1840 Delaware Place Unit A Longmont CO 80501
UID:e.3083.9993
SEQUENCE:3
DTSTAMP:20260422T183152Z
URL:https://members.longmontchamber.org/events/details/winter-market-at-tinkermill-9993
END:VEVENT

END:VCALENDAR
