BEGIN:VCALENDAR
VERSION:2.0
PRODID:-//ChamberMaster//Event Calendar 2.0//EN
METHOD:PUBLISH
X-PUBLISHED-TTL:P3D
REFRESH-INTERVAL:P3D
CALSCALE:GREGORIAN
BEGIN:VEVENT
DTSTART:20221215T230000Z
DTEND:20221216T030000Z
X-MICROSOFT-CDO-ALLDAYEVENT:FALSE
SUMMARY:Winter Open House
DESCRIPTION:Explore what is possible at TinkerMill\, Longmont's MakerSpace! \n\nWinter Open House- December 15th 4-8pm\n\nJoin us to meet our makers and shop their products\, take guided facility tours\, enjoy homemade cookies and hot cocoa\, and make your own crafts!\n\n- Shop demonstrations- watch members in our shops work their magic! TinkerMill Members will be there to show off what they make.\n\n- Vendor market- support local makers and artists by purchasing their wares. Check off everything on your Christmas list while keeping your dollars local.\n\n- Tours and demonstrations- if you haven't been to TinkerMill in a while\, come see what's changed! If you have never been here\, this is the perfect time to come check it out!
X-ALT-DESC;FMTTYPE=text/html:<p><span style="color:rgb(34\, 34\, 34)\; font-family:arial\; font-size:14.6667px">Explore what is possible at TinkerMill\, Longmont&rsquo\;s MakerSpace!&nbsp\;<br />\nWinter Open House- December 15th 4-8pm</span><br />\n<span style="background-color:transparent\; color:rgb(0\, 0\, 0)\; font-family:arial\; font-size:11pt">Join us to meet our makers and shop their products\, take guided facility tours\, enjoy homemade cookies and hot cocoa\, and make your own crafts!</span></p>\n\n<p><span style="background-color:transparent\; color:rgb(34\, 34\, 34)\; font-family:arial\; font-size:11pt">- Shop demonstrations- watch members in our shops work their magic!&nbsp\;</span><span style="color:rgb(34\, 34\, 34)\; font-family:arial\; font-size:14.6667px">TinkerMill Members will be there to show off what they make.</span><br />\n<span style="background-color:transparent\; color:rgb(34\, 34\, 34)\; font-family:arial\; font-size:11pt">- Vendor market- support local makers and artists by purchasing their wares. Check off everything on your Christmas list while keeping your dollars local.<br />\n-&nbsp\;</span><span style="background-color:transparent\; color:rgb(34\, 34\, 34)\; font-family:arial\; font-size:11pt">Tours and demonstrations- if you haven&#39\;t been to TinkerMill in a while\, come see what&#39\;s changed! If you have never been here\, this is the perfect time to come check it out!</span></p>\n\n<div>&nbsp\;</div>\n
LOCATION:TinkerMill 1840 Delaware Pl Unit A Longmont CO 80501
UID:e.3083.9263
SEQUENCE:3
DTSTAMP:20260423T113116Z
URL:https://members.longmontchamber.org/events/details/winter-open-house-9263
END:VEVENT

END:VCALENDAR
