BEGIN:VCALENDAR
VERSION:2.0
PRODID:-//ChamberMaster//Event Calendar 2.0//EN
METHOD:PUBLISH
X-PUBLISHED-TTL:P3D
REFRESH-INTERVAL:P3D
CALSCALE:GREGORIAN
BEGIN:VEVENT
DTSTART:20241214T230000Z
DTEND:20241215T000000Z
X-MICROSOFT-CDO-ALLDAYEVENT:FALSE
SUMMARY:Winter Wellness: Beginner's Mat Pilates
DESCRIPTION:Come join us before the Parade of Lights!  Sign up here.
X-ALT-DESC;FMTTYPE=text/html:Come join us before the Parade of Lights!&nbsp\; Sign up&nbsp\;<a href="https://www.bricksretail.com/event-details/mat-pilates-with-brittany">here</a>.&nbsp\;<br />\n&nbsp\;
LOCATION:Workspace @ Bricks
UID:e.3083.10292
SEQUENCE:3
DTSTAMP:20260421T204113Z
URL:https://members.longmontchamber.org/events/details/winter-wellness-beginner-s-mat-pilates-10292
END:VEVENT

END:VCALENDAR
