BEGIN:VCALENDAR
VERSION:2.0
PRODID:-//ChamberMaster//Event Calendar 2.0//EN
METHOD:PUBLISH
X-PUBLISHED-TTL:P3D
REFRESH-INTERVAL:P3D
CALSCALE:GREGORIAN
BEGIN:VEVENT
DTSTART:20250821T233000Z
DTEND:20250822T004500Z
X-MICROSOFT-CDO-ALLDAYEVENT:FALSE
SUMMARY:Womb Intelligence: Syncing Your Cycle with Your Life
DESCRIPTION:Learn how to connect to your body's natural rhythms\, understand what your cycle can teach you\, and be in a womb-centered space focused on deep reclamation.  Explore the benefits of herbal remedies\, uncover valuable nutrition tips tailored to each phase of your cycle\, and learn intuitive techniques to seamlessly integrate movement into your life.
X-ALT-DESC;FMTTYPE=text/html:<br />\n<span style="font-size:20px\;">Learn how to connect to your body&rsquo\;s natural rhythms\, understand what your cycle can teach you\, and be in a womb-centered space focused on deep reclamation.&nbsp\; Explore the benefits of herbal remedies\, uncover valuable nutrition tips tailored to each phase of your cycle\, and learn intuitive techniques to seamlessly integrate movement into your life.</span>
LOCATION:Saturn's Daughter HQ
UID:e.3083.14000
SEQUENCE:3
DTSTAMP:20260421T093817Z
URL:https://members.longmontchamber.org/events/details/womb-intelligence-syncing-your-cycle-with-your-life-14000
END:VEVENT

END:VCALENDAR
