BEGIN:VCALENDAR
VERSION:2.0
PRODID:-//ChamberMaster//Event Calendar 2.0//EN
METHOD:PUBLISH
X-PUBLISHED-TTL:P3D
REFRESH-INTERVAL:P3D
CALSCALE:GREGORIAN
BEGIN:VEVENT
DTSTART:20251104T000000Z
DTEND:20251104T012000Z
X-MICROSOFT-CDO-ALLDAYEVENT:FALSE
SUMMARY:Women's Grief Support Group: Grieving and the Holidays
DESCRIPTION:This women's grief support group has been available the past few years\, and everytime\, gets outstanding reviews. The goal of this group is to bring together any woman grieving any type of loss for a 7-week grief support curriculum that provides ample opportunity for being seen and heard and is responsive to the participants in the group. The group follows the BloomPath\, which helps participants look at six internal and seven external touchpoints grief has with and within an individual and equips them with key tools and resources that align with their values.
X-ALT-DESC;FMTTYPE=text/html:<br />\n<span style="font-size:18px\;">This women&#39\;s grief support group has been available the past few years\, and everytime\, gets outstanding reviews. The goal of this group is to bring together any woman grieving any type of loss for a 7-week grief support curriculum that provides ample opportunity for being seen and heard and is responsive to the participants in the group. The group follows the BloomPath\, which helps participants look at six internal and seven external touchpoints grief has with and within an individual and equips them with key tools and resources that align with their values.</span>
LOCATION:Southwest\, Longmont
UID:e.3083.14463
SEQUENCE:3
DTSTAMP:20260421T033656Z
URL:https://members.longmontchamber.org/events/details/women-s-grief-support-group-grieving-and-the-holidays-11-03-2025-14463
END:VEVENT

END:VCALENDAR
