BEGIN:VCALENDAR
VERSION:2.0
PRODID:-//ChamberMaster//Event Calendar 2.0//EN
METHOD:PUBLISH
X-PUBLISHED-TTL:P3D
REFRESH-INTERVAL:P3D
CALSCALE:GREGORIAN
BEGIN:VEVENT
DTSTART:20250907T220000Z
DTEND:20250908T010000Z
X-MICROSOFT-CDO-ALLDAYEVENT:FALSE
SUMMARY:Women & Wealth
DESCRIPTION:JOIN US FOR OUR 1ST EVER:  TEACH & TALK\n\nWOMEN OWNED BUSINESSES SPOTLIGHTED\n\nAN EMPOWERING EXPERIENCE FILLED WITH INSPIRATION\, CONNECTION\, AND CELEBRATION!\n\n\n\nDiscover the habits of successful women\, explore local women-represented businesses\, enjoy live music & appetizers\, and join us in raising funds to support the construction of a new orphanage. Most importantly\, come have a great time!\n\n\n\nFREE ADMISSION\, COMPLEMENTARY GIFTS & APPETIZERS\, EDUCATION\, MUSIC & FUN
X-ALT-DESC;FMTTYPE=text/html:<br />\n<span style="font-size:20px\;">JOIN US FOR OUR 1ST EVER:&nbsp\; TEACH &amp\; TALK<br />\nWOMEN OWNED BUSINESSES SPOTLIGHTED<br />\nAN EMPOWERING EXPERIENCE FILLED WITH INSPIRATION\, CONNECTION\, AND CELEBRATION!<br />\n<br />\n<span style="font-family: sans-serif\, Arial\, Verdana\, " trebuchet="">Discover the habits of successful women\, explore local women-represented businesses\, enjoy live music &amp\; appetizers\, and join us in raising funds to support the construction of a new orphanage. Most importantly\, come have a great time!<br />\n<br />\nFREE ADMISSION\, COMPLEMENTARY GIFTS &amp\; APPETIZERS\, EDUCATION\, MUSIC &amp\; FUN</span></span>\n<div>&nbsp\;</div>\n
LOCATION:Bestow Event Center
UID:e.3083.13569
SEQUENCE:3
DTSTAMP:20260421T063747Z
URL:https://members.longmontchamber.org/events/details/women-wealth-13569
END:VEVENT

END:VCALENDAR
