BEGIN:VCALENDAR
VERSION:2.0
PRODID:-//ChamberMaster//Event Calendar 2.0//EN
METHOD:PUBLISH
X-PUBLISHED-TTL:P3D
REFRESH-INTERVAL:P3D
CALSCALE:GREGORIAN
BEGIN:VEVENT
DTSTART:20250819T000000Z
DTEND:20250819T020000Z
X-MICROSOFT-CDO-ALLDAYEVENT:FALSE
SUMMARY:Women + Wine - featuring ADAPT Training & Pilates
DESCRIPTION:For the month of August\, Women & Wine will feature a program featuring Dr. Syd Haynes\, and active WAW member\, from ADAPT Training & Pilates.\n\n\n\nADAPT Training & Pilates is a women-owned Pilates studio and private physical therapy practice located in downtown Longmont. Founded by Dr. Syd Haynes in 2021 while pursuing her Doctorate in Physical Therapy\, ADAPT has grown from a one-woman operation into a vibrant movement space offering reformer Pilates\, personal training\, community mat classes\, dry needling\, and physical therapy services with a staff of three dedicated instructors.\n\n\n\nAt their core\, ADAPT strives to make movement education and wellness more accessible in the Longmont community for all bodies\, of all ages and abilities. As part of that commitment\, they're thrilled to bring a feel-good\, interactive movement session to the WAW event.\n\n\n\nPlan to wear something comfortable! Syd will guide you through a light\, feel-good seated and standing Pilates mini-session no mat\, no pressure\, and no prior experience needed. Just simple ways to support posture\, strength\, and everyday wellness.\n\n\n\nTicket prices are $30 for WAW members\; $50 for non-members. This includes a flight of wine featuring and food platter of your choice\, along with an engaging presentation from ADAPT Training & Pilates.\n\n\n\n*If you are a current WAW member\, please log into Tock\, or set up an account in Tock\, with the email that is associated with your WAW membership so you get the member pricing.
X-ALT-DESC;FMTTYPE=text/html:<br />\n<span style="color:rgb(43\, 43\, 43)\; font-family:oracle\,helvetica\,sans-serif\; font-size:16px">For the month of August\, Women &amp\; Wine will feature a program featuring Dr. Syd Haynes\, and active WAW member\, from ADAPT Training &amp\; Pilates.</span><br />\n<br />\n<span style="color:rgb(43\, 43\, 43)\; font-family:oracle\,helvetica\,sans-serif\; font-size:16px">ADAPT Training &amp\; Pilates is a women-owned Pilates studio and private physical therapy practice located in downtown Longmont. Founded by Dr. Syd Haynes in 2021 while pursuing her Doctorate in Physical Therapy\, ADAPT has grown from a one-woman operation into a vibrant movement space offering reformer Pilates\, personal training\, community mat classes\, dry needling\, and physical therapy services with a staff of three dedicated instructors.</span><br />\n<br />\n<span style="color:rgb(43\, 43\, 43)\; font-family:oracle\,helvetica\,sans-serif\; font-size:16px">At their core\, ADAPT strives to make movement education and wellness more accessible in the Longmont community&mdash\;for all bodies\, of all ages and abilities. As part of that commitment\, they&#39\;re thrilled to bring a feel-good\, interactive movement session to the WAW event.</span><br />\n<br />\n<span style="color:rgb(43\, 43\, 43)\; font-family:oracle\,helvetica\,sans-serif\; font-size:16px">Plan to wear something comfortable! Syd will guide you through a light\, feel-good seated and standing Pilates mini-session&mdash\;no mat\, no pressure\, and no prior experience needed. Just simple ways to support posture\, strength\, and everyday wellness.</span><br />\n<br />\n<span style="color:rgb(43\, 43\, 43)\; font-family:oracle\,helvetica\,sans-serif\; font-size:16px">Ticket prices are $30 for WAW members\; $50 for non-members. This includes a flight of wine featuring and food platter of your choice\, along with an engaging presentation from ADAPT Training &amp\; Pilates.</span><br />\n<br />\n<span style="color:rgb(43\, 43\, 43)\; font-family:oracle\,helvetica\,sans-serif\; font-size:16px">*If you are a current WAW member\, please log into Tock\, or set up an account in Tock\, with the email that is associated with your WAW membership so you get the member pricing.</span>
LOCATION:Kuper Wine Bar
UID:e.3083.13981
SEQUENCE:3
DTSTAMP:20260421T082254Z
URL:https://members.longmontchamber.org/events/details/women-wine-featuring-adapt-training-pilates-13981
END:VEVENT

END:VCALENDAR
