BEGIN:VCALENDAR
VERSION:2.0
PRODID:-//ChamberMaster//Event Calendar 2.0//EN
METHOD:PUBLISH
X-PUBLISHED-TTL:P3D
REFRESH-INTERVAL:P3D
CALSCALE:GREGORIAN
BEGIN:VEVENT
DTSTART:20250916T000000Z
DTEND:20250916T020000Z
X-MICROSOFT-CDO-ALLDAYEVENT:FALSE
SUMMARY:Women + Wine featuring Annie & Millie's Place
DESCRIPTION:For the month of September\, Women & Wine will feature a program featuring Kristen Baltrum of Annie and Millie's Place.\n\n\n\nImagine a place for humans and animals in need\, together. Our mission at Annie and Millie's Place is to keep people experiencing homelessness together with their fur family by evolving pet-friendly solutions\, programs and resources. Annie and Millie's Place was created out of the idea that people and their pets should have the opportunity to stay together\, no matter the situation. We are a group of Annie's family and friends who have joined together to carry out Annie's vision of giving homeless humans a respite from the streets alongside their animal companions. The pillar of our purpose is to build an open-minded network of people and bring awareness to human-animal homelessness.\n\n\n\nJoin us for a night at Kuper Wine Bar to hear Annie and Millie's story and the work being done in their memory. From direct interactions with folks through our Street Outreach\, all the way up to the Congressional offices of our nation's leadership through our advocacy efforts\, Annie and Millie's Place has been doing inspiring work to provide resources for our vulnerable community members and their animal family members. You'll hear real stories of resilience\, discover how our unique approach keeps people and pets together\, and find out how you can be part of the solution. Dream with us as we imagine this place\, Annie and Millie's Place\, where no one has to choose between a safe and secure place to sleep and their animal companion. It's an inspiring night of connection\, conversation\, and community   with a side of great wine.\n\n\n\nTicket prices are $30 for WAW members\; $50 for non-members. This includes a flight of wine featuring and food platter of your choice\, along with an engaging presentation from Annie and Millie's Place.\n\n\n\n*If you are a current WAW member\, please log into Tock\, or set up an account in Tock\, with the email that is associated with your WAW membership so you get the member pricing.
X-ALT-DESC;FMTTYPE=text/html:<br />\n<span style="color:rgb(43\, 43\, 43)\; font-family:oracle\,helvetica\,sans-serif\; font-size:16px">For the month of September\, Women &amp\; Wine will feature a program featuring Kristen Baltrum of Annie and Millie&#39\;s Place.</span><br />\n<br />\n<span style="color:rgb(43\, 43\, 43)\; font-family:oracle\,helvetica\,sans-serif\; font-size:16px">Imagine a place for humans and animals in need\, together. Our mission at Annie and Millie&#39\;s Place is to keep people experiencing homelessness together with their fur family by evolving pet-friendly solutions\, programs and resources. Annie and Millie&rsquo\;s Place was created out of the idea that people and their pets should have the opportunity to stay together\, no matter the situation. We are a group of Annie&rsquo\;s family and friends who have joined together to carry out Annie&#39\;s vision of giving homeless humans a respite from the streets alongside their animal companions. The pillar of our purpose is to build an open-minded network of people and bring awareness to human-animal homelessness.</span><br />\n<br />\n<span style="color:rgb(43\, 43\, 43)\; font-family:oracle\,helvetica\,sans-serif\; font-size:16px">Join us for a night at Kuper Wine Bar to hear Annie and Millie&#39\;s story and the work being done in their memory. From direct interactions with folks through our Street Outreach\, all the way up to the Congressional offices of our nation&#39\;s leadership through our advocacy efforts\, Annie and Millie&#39\;s Place has been doing inspiring work to provide resources for our vulnerable community members and their animal family members. You&rsquo\;ll hear real stories of resilience\, discover how our unique approach keeps people and pets together\, and find out how you can be part of the solution. Dream with us as we imagine this place\, Annie and Millie&#39\;s Place\, where no one has to choose between a safe and secure place to sleep and their animal companion. It&rsquo\;s an inspiring night of connection\, conversation\, and community &mdash\; with a side of great wine.</span><br />\n<br />\n<span style="color:rgb(43\, 43\, 43)\; font-family:oracle\,helvetica\,sans-serif\; font-size:16px">Ticket prices are $30 for WAW members\; $50 for non-members. This includes a flight of wine featuring and food platter of your choice\, along with an engaging presentation from Annie and Millie&#39\;s Place.</span><br />\n<br />\n<span style="color:rgb(43\, 43\, 43)\; font-family:oracle\,helvetica\,sans-serif\; font-size:16px">*If you are a current WAW member\, please log into Tock\, or set up an account in Tock\, with the email that is associated with your WAW membership so you get the member pricing.</span>
LOCATION:Kuper Wine Bar
UID:e.3083.14222
SEQUENCE:3
DTSTAMP:20260421T064157Z
URL:https://members.longmontchamber.org/events/details/women-wine-featuring-annie-millie-s-place-14222
END:VEVENT

END:VCALENDAR
