BEGIN:VCALENDAR
VERSION:2.0
PRODID:-//ChamberMaster//Event Calendar 2.0//EN
METHOD:PUBLISH
X-PUBLISHED-TTL:P3D
REFRESH-INTERVAL:P3D
CALSCALE:GREGORIAN
BEGIN:VEVENT
DTSTART:20250722T000000Z
DTEND:20250722T020000Z
X-MICROSOFT-CDO-ALLDAYEVENT:FALSE
SUMMARY:Women + Wine - featuring Centennial State Ballet
DESCRIPTION:For the month of July\, Women & Wine will feature a program from Centennial State Ballet.\n\n\n\nMoriah and Kat from CSB will speak on behalf of the ballet productions and they will feature 2 dancers showing their skills of simple pointe work and a variation. The presentation will also include how a pointe shoe is made\, the history of ballet\, and what it costs to get a ballet from rehearsal to stage.\n\n\n\nTicket prices are $30 for WAW members\; $50 for non-members. This includes a flight of wine featuring and food platter of your choice\, along with an engaging presentation from Centennial State Ballet.\n\n\n\n*If you are a current WAW member\, please log into Tock\, or set up an account in Tock\, with the email that is associated with your WAW membership so you get the member pricing.
X-ALT-DESC;FMTTYPE=text/html:<div>\n<p><span style="color:inherit\; font-family:var(--typography-body02-font-family)\; font-size:var(--typography-body02-font-size)"><span style="font-family:inherit\; font-size:16px">For the month of July\, Women &amp\; Wine will feature a program from Centennial State Ballet.<br />\n<br />\nMoriah and Kat from CSB will speak on behalf of the ballet productions and they will feature 2 dancers showing their skills of simple pointe work and a variation. The presentation will also include how a pointe shoe is made\, the history of ballet\, and what it costs to get a ballet from rehearsal to stage.<br />\n<br />\nTicket prices are $30 for WAW members\; $50 for non-members. This includes a flight of wine featuring and food platter of your choice\, along with an engaging presentation from Centennial State Ballet.<br />\n<br />\n*If you are a current WAW member\, please log into Tock\, or set up an account in Tock\, with the email that is associated with your WAW membership so you get the member pricing.</span></span></p>\n</div>\n
LOCATION:Kuper Wine Bar
UID:e.3083.13565
SEQUENCE:3
DTSTAMP:20260421T093731Z
URL:https://members.longmontchamber.org/events/details/women-wine-featuring-centennial-state-ballet-13565
END:VEVENT

END:VCALENDAR
