BEGIN:VCALENDAR
VERSION:2.0
PRODID:-//ChamberMaster//Event Calendar 2.0//EN
METHOD:PUBLISH
X-PUBLISHED-TTL:P3D
REFRESH-INTERVAL:P3D
CALSCALE:GREGORIAN
BEGIN:VEVENT
DTSTART:20250318T000000Z
DTEND:20250318T020000Z
X-MICROSOFT-CDO-ALLDAYEVENT:FALSE
SUMMARY:Women + Wine - featuring Colorado Friendship & wines from Chasing Lions
DESCRIPTION:For the month of March\, Women & Wine will feature a program by Colorado FriendShip power duo of Liz Friendenson & Eve Weglarz and a female winemaker.\n\n\n\nIn one of the wealthiest counties in America\, many are in need of the most basic necessities. Colorado FriendShip delivers food and clothing to those who need it most   low-income and poverty-stricken children and families\, and the homeless and indigent in Boulder County.\n\n\n\nThey serve our community with 3 outstanding programs: IncrEdibles Food Program\, Hot Meals on the Street\, and Disaster Relief.\n\n\n\nTicket prices are $30 for WAW members\; $50 for non-members. This includes a flight of wine featuring and a small nibbles platter\, along with an engaging program of a not-for-profit that Kuper is very passionate about.\n\n\n\n*If you are a current WAW member\, please log into Tock\, or set up an account in Tock\, with the email that is associated with your WAW membership so you get the member pricing.
X-ALT-DESC;FMTTYPE=text/html:<div>\n<p><span style="color:inherit\; font-family:var(--typography-body02-font-family)\; font-size:var(--typography-body02-font-size)"><span style="font-family:inherit\; font-size:16px">For the month of March\, Women &amp\; Wine will feature a program by Colorado FriendShip power duo of Liz Friendenson &amp\; Eve Weglarz and a female winemaker.<br />\n<br />\nIn one of the wealthiest counties in America\, many are in need of the most basic necessities. Colorado FriendShip delivers food and clothing to those who need it most &mdash\; low-income and poverty-stricken children and families\, and the homeless and indigent in Boulder County.<br />\n<br />\nThey serve our community with 3 outstanding programs: IncrEdibles Food Program\, Hot Meals on the Street\, and Disaster Relief.<br />\n<br />\nTicket prices are $30 for WAW members\; $50 for non-members. This includes a flight of wine featuring and a small nibbles platter\, along with an engaging program of a not-for-profit that Kuper is very passionate about.<br />\n<br />\n*If you are a current WAW member\, please log into Tock\, or set up an account in Tock\, with the email that is associated with your WAW membership so you get the member pricing.</span></span></p>\n</div>\n
LOCATION:Kuper Wine Bar
UID:e.3083.10944
SEQUENCE:3
DTSTAMP:20260421T160717Z
URL:https://members.longmontchamber.org/events/details/women-wine-featuring-colorado-friendship-wines-from-chasing-lions-10944
END:VEVENT

END:VCALENDAR
