BEGIN:VCALENDAR
VERSION:2.0
PRODID:-//ChamberMaster//Event Calendar 2.0//EN
METHOD:PUBLISH
X-PUBLISHED-TTL:P3D
REFRESH-INTERVAL:P3D
CALSCALE:GREGORIAN
BEGIN:VEVENT
DTSTART:20250121T010000Z
DTEND:20250121T030000Z
X-MICROSOFT-CDO-ALLDAYEVENT:FALSE
SUMMARY:Women + Wine - featuring Crackpots
DESCRIPTION:For the month of January\, Women & Wine will feature a program by Crackpots owner Tamar Hendricks and a female winemaker. There will be a painting activity that each guest will complete and pick up at Crackpots the next week\, after it has been glazed and fired.\n\n\n\nTamar Hendricks\, owner of Crackpots\, a pottery store on Main Street\, believes that everyone has creative potential. For the two decades\, the studio has let locals find their inner artist.\n\n\n\nHendricks said some people are intimidated by making art because they have to acquire supplies or don't think they have artistic abilities. At Crackpots\, the mission is to make it accessible. "Be an artist for the day" is printed on the storefront's window.\n\n\n\nTicket prices are $40 for WAW members\; $65 for non-members. This includes a flight of wine and a small nibbles platter\, along with what we will be painting for the evening.\n\n\n\n*If you are a current WAW member\, please log into Tock\, or set up an account in Tock\, with the email that is associated with your WAW membership so you get the member pricing.
X-ALT-DESC;FMTTYPE=text/html:<div>\n<p><span style="color:inherit\; font-family:var(--font-family-sans-regular)\; font-size:1.6rem"><span style="font-family:inherit\; font-size:16px">For the month of January\, Women &amp\; Wine will feature a program by Crackpots owner Tamar Hendricks and a female winemaker. There will be a painting activity that each guest will complete and pick up at Crackpots the next week\, after it has been glazed and fired.<br />\n<br />\nTamar Hendricks\, owner of Crackpots\, a pottery store on Main Street\, believes that everyone has creative potential. For the two decades\, the studio has let locals find their inner artist.<br />\n<br />\nHendricks said some people are intimidated by making art because they have to acquire supplies or don&rsquo\;t think they have artistic abilities. At Crackpots\, the mission is to make it accessible. &ldquo\;Be an artist for the day&rdquo\; is printed on the storefront&rsquo\;s window.<br />\n<br />\nTicket prices are $40 for WAW members\; $65 for non-members. This includes a flight of wine and a small nibbles platter\, along with what we will be painting for the evening.<br />\n<br />\n*If you are a current WAW member\, please log into Tock\, or set up an account in Tock\, with the email that is associated with your WAW membership so you get the member pricing.</span></span></p>\n</div>\n
LOCATION:Kuper Wine Bar
UID:e.3083.10725
SEQUENCE:3
DTSTAMP:20260421T190130Z
URL:https://members.longmontchamber.org/events/details/women-wine-featuring-crackpots-10725
END:VEVENT

END:VCALENDAR
