BEGIN:VCALENDAR
VERSION:2.0
PRODID:-//ChamberMaster//Event Calendar 2.0//EN
METHOD:PUBLISH
X-PUBLISHED-TTL:P3D
REFRESH-INTERVAL:P3D
CALSCALE:GREGORIAN
BEGIN:VEVENT
DTSTART:20241119T010000Z
DTEND:20241119T030000Z
X-MICROSOFT-CDO-ALLDAYEVENT:FALSE
SUMMARY:Women + Wine - featuring Happy Day Plants
DESCRIPTION:For the month of November\, Women & Wine will feature a program by Happy Day Plants owner Jessica Birmingham and a female winemaker. There will be a planting activity that each guest will take home with them.\n\n\n\nHappy Day Plants believe in cultivating growth both in household plants\, but more importantly in the lives they touch. Jessica Birmingham\, owner of Happy Day Plants\, will share her inspiring journey of turning her dream of owning a plant shop into a reality\, her passion for plants and the community\, and how Happy Day Plants grew into a mission-driven business of workplace inclusivity.\n\n\n\nTicket prices are $50 for WAW members\; $75 for non-members. This includes a flight of wine featuring and a small nibbles platter\, along with what we will be planting for the evening.\n\n\n\n*If you are a current WAW member\, please log into Tock\, or set up an account in Tock\, with the email that is associated with your WAW membership so you get the member pricing.
X-ALT-DESC;FMTTYPE=text/html:<span style="color:rgb(43\, 43\, 43)\; font-family:oracle\,helvetica\,sans-serif\; font-size:16px">For the month of November\, Women &amp\; Wine will feature a program by Happy Day Plants owner Jessica Birmingham and a female winemaker. There will be a planting activity that each guest will take home with them.</span><br />\n<br />\n<span style="color:rgb(43\, 43\, 43)\; font-family:oracle\,helvetica\,sans-serif\; font-size:16px">Happy Day Plants believe in cultivating growth both in household plants\, but more importantly in the lives they touch. Jessica Birmingham\, owner of Happy Day Plants\, will share her inspiring journey of turning her dream of owning a plant shop into a reality\, her passion for plants and the community\, and how Happy Day Plants grew into a mission-driven business of workplace inclusivity.</span><br />\n<br />\n<span style="color:rgb(43\, 43\, 43)\; font-family:oracle\,helvetica\,sans-serif\; font-size:16px">Ticket prices are $50 for WAW members\; $75 for non-members. This includes a flight of wine featuring and a small nibbles platter\, along with what we will be planting for the evening.</span><br />\n<br />\n<span style="color:rgb(43\, 43\, 43)\; font-family:oracle\,helvetica\,sans-serif\; font-size:16px">*If you are a current WAW member\, please log into Tock\, or set up an account in Tock\, with the email that is associated with your WAW membership so you get the member pricing.</span>
LOCATION:Kuper Wine Bar
UID:e.3083.10269
SEQUENCE:3
DTSTAMP:20260421T235658Z
URL:https://members.longmontchamber.org/events/details/women-wine-featuring-happy-day-plants-10269
END:VEVENT

END:VCALENDAR
