BEGIN:VCALENDAR
VERSION:2.0
PRODID:-//ChamberMaster//Event Calendar 2.0//EN
METHOD:PUBLISH
X-PUBLISHED-TTL:P3D
REFRESH-INTERVAL:P3D
CALSCALE:GREGORIAN
BEGIN:VEVENT
DTSTART:20250617T000000Z
DTEND:20250617T020000Z
X-MICROSOFT-CDO-ALLDAYEVENT:FALSE
SUMMARY:Women + Wine - featuring Hearing the Call Colorado
DESCRIPTION:For the month of June\, Women & Wine will feature a program from WAW member D'Anne Rudden and Hearing the Call Colorado.\n\n\n\nD'Anne will share why the hearing healthcare is her passion. Her clinic is one of seven in the state of Colorado supporting the initiative\, Hearing the Call Colorado. She will share the mission & vision of the initiative and how they are providing access to quality and affordable hearing healthcare for qualified individuals.\n\n\n\nThere will be some fun & informative activities that give meaning to hearing issues.\n\n\n\nTicket prices are $30 for WAW members\; $50 for non-members. This includes a flight of wine featuring and food platter of your choice\, along with an engaging program on Hearing the Call Colorado.\n\n\n\n*If you are a current WAW member\, please log into Tock\, or set up an account in Tock\, with the email that is associated with your WAW membership so you get the member pricing.
X-ALT-DESC;FMTTYPE=text/html:<div>\n<p><span style="color:inherit\; font-family:var(--typography-body02-font-family)\; font-size:var(--typography-body02-font-size)"><span style="font-family:inherit\; font-size:16px">For the month of June\, Women &amp\; Wine will feature a program from WAW member D&#39\;Anne Rudden and Hearing the Call Colorado.<br />\n<br />\nD&#39\;Anne will share why the hearing healthcare is her passion. Her clinic is one of seven in the state of Colorado supporting the initiative\, Hearing the Call Colorado. She will share the mission &amp\; vision of the initiative and how they are providing access to quality and affordable hearing healthcare for qualified individuals.<br />\n<br />\nThere will be some fun &amp\; informative activities that give meaning to hearing issues.<br />\n<br />\nTicket prices are $30 for WAW members\; $50 for non-members. This includes a flight of wine featuring and food platter of your choice\, along with an engaging program on Hearing the Call Colorado.<br />\n<br />\n*If you are a current WAW member\, please log into Tock\, or set up an account in Tock\, with the email that is associated with your WAW membership so you get the member pricing.</span></span></p>\n</div>\n
LOCATION:Kuper Wine Bar
UID:e.3083.13501
SEQUENCE:3
DTSTAMP:20260421T111421Z
URL:https://members.longmontchamber.org/events/details/women-wine-featuring-hearing-the-call-colorado-13501
END:VEVENT

END:VCALENDAR
