BEGIN:VCALENDAR
VERSION:2.0
PRODID:-//ChamberMaster//Event Calendar 2.0//EN
METHOD:PUBLISH
X-PUBLISHED-TTL:P3D
REFRESH-INTERVAL:P3D
CALSCALE:GREGORIAN
BEGIN:VEVENT
DTSTART:20240724T000000Z
DTEND:20240724T020000Z
X-MICROSOFT-CDO-ALLDAYEVENT:FALSE
SUMMARY:Women + Wine - featuring Ivy Rose Boutique & Poggio Del Moro Winery
DESCRIPTION:Join us at The Kuper for our monthly program celebrating women and wine!\n\nThis month's Women + Wine event will feature a fashion show from Ivy Rose Boutique\, and owner/winemaker Tania Kuznetsova from Poggio Del Moro Winery in Tuscany\, Italy.\n\nKathy Deakin is the proud owner of Ivy Rose\, located in the heart of Longmont\, Colorado. It is a boutique full of ever changing on-trend clothing\, jewelry and accessories for women of every generation. The expert guidance of the warm and welcoming staff will make you feel like you have your own personal stylist.\n\nIvy Rose styles women of every generation with fashion-forward clothing\, jewelry and accessories in a warm welcoming environment. Our affordable looks include: trendy dresses\, comfortable leggings and cozy sweaters\; blouses\, tank tops and tunics for every body style\; clothes for work\, working out or going out\; pants\, jeans and statement tees\; jewelry\, handbags\, belts\, scarves and hats to complement your outfits. \n\n\n\nWomen + Wine member's ticket price is $30\; $50 for non-members. To sign up for Women + Wine\, visit: https://kuperwinebar.com/events/women-wine/
X-ALT-DESC;FMTTYPE=text/html:<p>Join us at The Kuper for our monthly program celebrating women and wine!<br />\nThis month&#39\;s Women + Wine event will feature a fashion show from Ivy Rose Boutique\, and owner/winemaker Tania Kuznetsova from Poggio Del Moro Winery in Tuscany\, Italy.</p>\n\n<p>Kathy Deakin is the proud owner of Ivy Rose\, located in the heart of Longmont\, Colorado. It is a boutique full of ever changing on-trend clothing\, jewelry and accessories for women of every generation. The expert guidance of the warm and welcoming staff will make you feel like you have your own personal stylist.</p>\n\n<p>Ivy Rose styles women of every generation with fashion-forward clothing\, jewelry and accessories in a warm welcoming environment. Our affordable looks include: trendy dresses\, comfortable leggings and cozy sweaters\; blouses\, tank tops and tunics for every body style\; clothes for work\, working out or going out\; pants\, jeans and statement tees\; jewelry\, handbags\, belts\, scarves and hats to complement your outfits.&nbsp\;<br />\n<br />\nWomen + Wine member&#39\;s ticket price is $30\; $50 for non-members. To sign up for Women + Wine\, visit:&nbsp\;<a href="https://kuperwinebar.com/events/women-wine/">https://kuperwinebar.com/events/women-wine/</a></p>\n
LOCATION:Kuper Wine Bar 600 Longs Peak Ave. Unit H Longmont\, Colorado 80501
UID:e.3083.10137
SEQUENCE:3
DTSTAMP:20260422T061823Z
URL:https://members.longmontchamber.org/events/details/women-wine-featuring-ivy-rose-boutique-poggio-del-moro-winery-10137
END:VEVENT

END:VCALENDAR
