BEGIN:VCALENDAR
VERSION:2.0
PRODID:-//ChamberMaster//Event Calendar 2.0//EN
METHOD:PUBLISH
X-PUBLISHED-TTL:P3D
REFRESH-INTERVAL:P3D
CALSCALE:GREGORIAN
BEGIN:VEVENT
DTSTART:20250520T000000Z
DTEND:20250520T020000Z
X-MICROSOFT-CDO-ALLDAYEVENT:FALSE
SUMMARY:Women + Wine - featuring Spice eBikes
DESCRIPTION:For the month of May\, Women & Wine will feature a program from Amy Wilkins from Spice eBikes and a female winemaker.\n\n\n\nAmy will bring in some bikes\, accessories\, and helmets to share with the group and they can ask her questions (or purchase if they want!). She will go over the history of e-bikes\, benefits\, and features\, as well as her experience starting the shop\, inspiration\, and journey with her business.\n\n\n\nAmy will also have a fun trivia activity for the group and will leave time for Q&A too.\n\n\n\nTicket prices are $30 for WAW members\; $50 for non-members. This includes a flight of wine featuring and a small nibbles platter\, along with an engaging program on the benefits of eBikes.\n\n\n\n*If you are a current WAW member\, please log into Tock\, or set up an account in Tock\, with the email that is associated with your WAW membership so you get the member pricing.
X-ALT-DESC;FMTTYPE=text/html:<div>\n<p><br />\n<span style="color:inherit\; font-family:var(--typography-body02-font-family)\; font-size:var(--typography-body02-font-size)"><span style="font-family:inherit\; font-size:16px">For the month of May\, Women &amp\; Wine will feature a program from Amy Wilkins from Spice eBikes and a female winemaker.<br />\n<br />\nAmy will bring in some bikes\, accessories\, and helmets to share with the group and they can ask her questions (or purchase if they want!). She will go over the history of e-bikes\, benefits\, and features\, as well as her experience starting the shop\, inspiration\, and journey with her business.<br />\n<br />\nAmy will also have a fun trivia activity for the group and will leave time for Q&amp\;A too.<br />\n<br />\nTicket prices are $30 for WAW members\; $50 for non-members. This includes a flight of wine featuring and a small nibbles platter\, along with an engaging program on the benefits of eBikes.<br />\n<br />\n*If you are a current WAW member\, please log into Tock\, or set up an account in Tock\, with the email that is associated with your WAW membership so you get the member pricing.</span></span></p>\n\n<div>&nbsp\;</div>\n</div>\n
LOCATION:Kuper Wine Bar
UID:e.3083.13319
SEQUENCE:3
DTSTAMP:20260421T125317Z
URL:https://members.longmontchamber.org/events/details/women-wine-featuring-spice-ebikes-13319
END:VEVENT

END:VCALENDAR
