BEGIN:VCALENDAR
VERSION:2.0
PRODID:-//ChamberMaster//Event Calendar 2.0//EN
METHOD:PUBLISH
X-PUBLISHED-TTL:P3D
REFRESH-INTERVAL:P3D
CALSCALE:GREGORIAN
BEGIN:VEVENT
DTSTART:20240924T000000Z
DTEND:20240924T020000Z
X-MICROSOFT-CDO-ALLDAYEVENT:FALSE
SUMMARY:Women + Wine - featuring the Reentry Initiative
DESCRIPTION:Each month\, we feature a different female winemaker\, showcasing her wines and sharing her story with our guests. In addition\, we partner with a local female-run business or not-for-profit organization to highlight their work and spotlight their role in the community.\n\nThis month's Women & Wine event will feature a program from The Reentry Initiative and a female winemaker. \n\n*A portion of the proceeds will be donated to The Reentry Initiative.\n\nFounded in 2016\, The Reentry Initiative (TRI) is recognized for its unique\, evidence-based process supporting individuals involved in the justice system with holistic\, wrap-around services. Our wrap-around approach ensures justice-involved adults thrive in the community without reoffending.\n\nThe Reentry Initiative offers a unique\, evidence-based process that combines mental health and substance abuse treatment with comprehensive support services to individuals on probation and parole in the St. Vrain Valley region of Boulder County\, Colorado.
X-ALT-DESC;FMTTYPE=text/html:<p>Each month\, we feature a different female winemaker\, showcasing her wines and sharing her story with our guests. In addition\, we partner with a local female-run business or not-for-profit organization to highlight their work and spotlight their role in the community.</p>\n\n<p style="text-align:center"><strong><span style="font-size:14px">This month&#39\;s Women &amp\; Wine event will feature a program from The Reentry Initiative and a female winemaker.&nbsp\;</span></strong><br />\n<strong><span style="font-size:14px">*<em>A portion of the proceeds will be donated to The Reentry Initiative.</em></span></strong></p>\n\n<p>Founded in 2016\, The Reentry Initiative (TRI) is recognized for its unique\, evidence-based process supporting individuals involved in the justice system with holistic\, wrap-around services. Our wrap-around approach ensures justice-involved adults thrive in the community without reoffending.</p>\n\n<p>The Reentry Initiative offers a unique\, evidence-based process that combines mental health and substance abuse treatment with comprehensive support services to individuals on probation and parole in the St. Vrain Valley region of Boulder County\, Colorado.&nbsp\;</p>\n
LOCATION:Kuper Wine Bar 600 Longs Peak Ave Unit H Longmont CO 80501
UID:e.3083.10190
SEQUENCE:3
DTSTAMP:20260422T013748Z
URL:https://members.longmontchamber.org/events/details/women-wine-featuring-the-reentry-initiative-10190
END:VEVENT

END:VCALENDAR
