BEGIN:VCALENDAR
VERSION:2.0
PRODID:-//ChamberMaster//Event Calendar 2.0//EN
METHOD:PUBLISH
X-PUBLISHED-TTL:P3D
REFRESH-INTERVAL:P3D
CALSCALE:GREGORIAN
BEGIN:VEVENT
DTSTART:20250218T010000Z
DTEND:20250218T030000Z
X-MICROSOFT-CDO-ALLDAYEVENT:FALSE
SUMMARY:Women + Wine - featuring The St. Vrain Center
DESCRIPTION:For the month of February\, Women & Wine will feature a program by St. Vrain owners Judi Sperry & Bailey Fink\, with a wine flight from Megan Hughes of Barnard Griffin.\n\n\n\nJudi & Bailey are co-owners of The St Vrain event center in Longmont and both have decades of experience in event planning & catering. They took ownership of The St Vrain in 2024 and are excited to share the history of the building\, their vision for the space and fun stories. Judi also will be talking about her calligraphy business and how that ties into their vision. She will also share a few pointers on doing calligraphy.\n\n\n\nTicket prices are $30 for WAW members\; $50 for non-members. This includes a flight of wine and a small nibbles platter\, along with the program from Judi & Bailey.\n\n\n\n*If you are a current WAW member\, please log into Tock\, or set up an account in Tock\, with the email that is associated with your WAW membership so you get the member pricing.
X-ALT-DESC;FMTTYPE=text/html:<span style="color:rgb(43\, 43\, 43)\; font-family:oracle\,helvetica\,sans-serif\; font-size:16px">For the month of February\, Women &amp\; Wine will feature a program by St. Vrain owners Judi Sperry &amp\; Bailey Fink\, with a wine flight from Megan Hughes of Barnard Griffin.</span><br />\n<br />\n<span style="color:rgb(43\, 43\, 43)\; font-family:oracle\,helvetica\,sans-serif\; font-size:16px">Judi &amp\; Bailey are co-owners of The St Vrain event center in Longmont and both have decades of experience in event planning &amp\; catering. They took ownership of The St Vrain in 2024 and are excited to share the history of the building\, their vision for the space and fun stories. Judi also will be talking about her calligraphy business and how that ties into their vision. She will also share a few pointers on doing calligraphy.</span><br />\n<br />\n<span style="color:rgb(43\, 43\, 43)\; font-family:oracle\,helvetica\,sans-serif\; font-size:16px">Ticket prices are $30 for WAW members\; $50 for non-members. This includes a flight of wine and a small nibbles platter\, along with the program from Judi &amp\; Bailey.</span><br />\n<br />\n<span style="color:rgb(43\, 43\, 43)\; font-family:oracle\,helvetica\,sans-serif\; font-size:16px">*If you are a current WAW member\, please log into Tock\, or set up an account in Tock\, with the email that is associated with your WAW membership so you get the member pricing.</span>
LOCATION:Kuper Wine Bar
UID:e.3083.10766
SEQUENCE:3
DTSTAMP:20260421T174901Z
URL:https://members.longmontchamber.org/events/details/women-wine-featuring-the-st-vrain-center-10766
END:VEVENT

END:VCALENDAR
